BEGIN_USGS_DOQ_HEADER *
QUADRANGLE_NAME "WASCO" *
QUADRANT SW *
NORTH_LATITUDE 35 33 45.000 *
WEST_LONGITUDE -119 22 30.000 *
SOUTH_LATITUDE 35 30 00.000 *
EAST_LONGITUDE -119 18 45.000 *
PRODUCTION_DATE 1998 12 02 *
RASTER_ORDER LEFT_RIGHT/TOP_BOTTOM *
BAND_ORGANIZATION "SINGLE FILE" *
BAND_CONTENT BLACK&WHITE *
BITS_PER_PIXEL 8 *
SAMPLES_AND_LINES 6540 7710 *
HORIZONTAL_DATUM NAD83 *
HORIZONTAL_COORDINATE_SYSTEM UTM *
COORDINATE_ZONE 11 *
HORIZONTAL_UNITS METERS *
HORIZONTAL_RESOLUTION 1.000 *
SECONDARY_HORIZONTAL_DATUM NAD27 *
XY_ORIGIN 284190.000 3938340.000 *
SECONDARY_XY_ORIGIN 284270.902 3938143.428 *
NATION US *
STATE CA *
NW_QUAD_CORNER_XY 284750.755 3938020.548 *
NE_QUAD_CORNER_XY 290416.226 3937885.687 *
SE_QUAD_CORNER_XY 290253.508 3930952.217 *
SW_QUAD_CORNER_XY 284583.633 3931086.977 *
SECONDARY_NW_QUAD_XY 284745.701 3937821.382 *
SECONDARY_NE_QUAD_XY 290411.305 3937686.518 *
SECONDARY_SE_QUAD_XY 290248.592 3930753.230 *
SECONDARY_SW_QUAD_XY 284578.583 3930887.993 *
RMSE_XY 0.920 *
IMAGE_SOURCE "BLACK AND WHITE FILM" *
SOURCE_IMAGE_ID "NAPP 6925 34" *
SOURCE_IMAGE_DATE 1994 06 01 *
SOURCE_DEM_DATE 1968 00 00 *
AGENCY "WESTERN MAPPING CENTER (WMC)" *
PRODUCER "ANALYTICAL SURVEYS INC." *
PRODUCTION_SYSTEM "ORBIT OR_RECTIFY V.5.2" *
STANDARD_VERSION 1996 12 *
METADATA_DATE 1998 12 03 *
DATA_FILE_SIZE 50429940 *
BYTE_COUNT 6540 * * * * * * * * * * * * * * * * * * * * * * * * * * * * * * * * * * * * * * *
END_USGS_HEADER *
