BEGIN_USGS_DOQ_HEADER *
QUADRANGLE_NAME "WASCO SW" *
QUADRANT NE *
NORTH_LATITUDE 35 37 30.000 *
WEST_LONGITUDE -119 26 15.000 *
SOUTH_LATITUDE 35 33 45.000 *
EAST_LONGITUDE -119 22 30.000 *
PRODUCTION_DATE 1998 12 02 *
RASTER_ORDER LEFT_RIGHT/TOP_BOTTOM *
BAND_ORGANIZATION "SINGLE FILE" *
BAND_CONTENT BLACK&WHITE *
BITS_PER_PIXEL 8 *
SAMPLES_AND_LINES 6570 7710 *
HORIZONTAL_DATUM NAD83 *
HORIZONTAL_COORDINATE_SYSTEM UTM *
COORDINATE_ZONE 11 *
HORIZONTAL_UNITS METERS *
HORIZONTAL_RESOLUTION 1.000 *
SECONDARY_HORIZONTAL_DATUM NAD27 *
XY_ORIGIN 278670.000 3945420.000 *
SECONDARY_XY_ORIGIN 278750.943 3945223.254 *
NATION US *
STATE CA *
NW_QUAD_CORNER_XY 279256.993 3945092.745 *
NE_QUAD_CORNER_XY 284918.134 3944954.178 *
SE_QUAD_CORNER_XY 284750.755 3938020.548 *
SW_QUAD_CORNER_XY 279085.201 3938159.011 *
SECONDARY_NW_QUAD_XY 279251.801 3944893.402 *
SECONDARY_NE_QUAD_XY 284913.076 3944754.832 *
SECONDARY_SE_QUAD_XY 284745.701 3937821.382 *
SECONDARY_SW_QUAD_XY 279080.014 3937959.849 *
RMSE_XY 0.610 *
IMAGE_SOURCE "BLACK AND WHITE FILM" *
SOURCE_IMAGE_ID "NAPP 6918 198" *
SOURCE_IMAGE_DATE 1994 05 10 *
SOURCE_DEM_DATE 1953 00 00 *
AGENCY "WESTERN MAPPING CENTER (WMC)" *
PRODUCER "ANALYTICAL SURVEYS INC." *
PRODUCTION_SYSTEM "ORBIT OR_RECTIFY V.5.2" *
STANDARD_VERSION 1996 12 *
METADATA_DATE 1998 12 03 *
DATA_FILE_SIZE 50661270 *
BYTE_COUNT 6570 * * * * * * * * * * * * * * * * * * * * * * * * * * * * * * * * * * * * * * * *
END_USGS_HEADER *
