BEGIN_USGS_DOQ_HEADER *
QUADRANGLE_NAME "WASCO SW" *
QUADRANT NW *
NORTH_LATITUDE 35 37 30.000 *
WEST_LONGITUDE -119 30 00.000 *
SOUTH_LATITUDE 35 33 45.000 *
EAST_LONGITUDE -119 26 15.000 *
PRODUCTION_DATE 1998 12 02 *
RASTER_ORDER LEFT_RIGHT/TOP_BOTTOM *
BAND_ORGANIZATION "SINGLE FILE" *
BAND_CONTENT BLACK&WHITE *
BITS_PER_PIXEL 8 *
SAMPLES_AND_LINES 6540 7710 *
HORIZONTAL_DATUM NAD83 *
HORIZONTAL_COORDINATE_SYSTEM UTM *
COORDINATE_ZONE 11 *
HORIZONTAL_UNITS METERS *
HORIZONTAL_RESOLUTION 1.000 *
SECONDARY_HORIZONTAL_DATUM NAD27 *
XY_ORIGIN 273030.000 3945540.000 *
SECONDARY_XY_ORIGIN 273111.034 3945343.146 *
NATION US *
STATE CA *
NW_QUAD_CORNER_XY 273595.767 3945234.918 *
NE_QUAD_CORNER_XY 279256.993 3945092.745 *
SE_QUAD_CORNER_XY 279085.201 3938159.011 *
SW_QUAD_CORNER_XY 273419.562 3938301.078 *
SECONDARY_NW_QUAD_XY 273590.441 3945035.578 *
SECONDARY_NE_QUAD_XY 279251.801 3944893.402 *
SECONDARY_SE_QUAD_XY 279080.014 3937959.849 *
SECONDARY_SW_QUAD_XY 273414.241 3938101.919 *
RMSE_XY 0.600 *
IMAGE_SOURCE "BLACK AND WHITE FILM" *
SOURCE_IMAGE_ID "NAPP 6918 167" *
SOURCE_IMAGE_DATE 1994 05 10 *
SOURCE_DEM_DATE 1953 00 00 *
AGENCY "WESTERN MAPPING CENTER (WMC)" *
PRODUCER "ANALYTICAL SURVEYS INC." *
PRODUCTION_SYSTEM "ORBIT OR_RECTIFY V.5.2" *
STANDARD_VERSION 1996 12 *
METADATA_DATE 1998 12 03 *
DATA_FILE_SIZE 50429940 *
BYTE_COUNT 6540 * * * * * * * * * * * * * * * * * * * * * * * * * * * * * * * * * * * * * * *
END_USGS_HEADER *
