BEGIN_USGS_DOQ_HEADER *
QUADRANGLE_NAME "WASCO SW" *
QUADRANT SE *
NORTH_LATITUDE 35 33 45.000 *
WEST_LONGITUDE -119 26 15.000 *
SOUTH_LATITUDE 35 30 00.000 *
EAST_LONGITUDE -119 22 30.000 *
PRODUCTION_DATE 1998 12 02 *
RASTER_ORDER LEFT_RIGHT/TOP_BOTTOM *
BAND_ORGANIZATION "SINGLE FILE" *
BAND_CONTENT BLACK&WHITE *
BITS_PER_PIXEL 8 *
SAMPLES_AND_LINES 6540 7680 *
HORIZONTAL_DATUM NAD83 *
HORIZONTAL_COORDINATE_SYSTEM UTM *
COORDINATE_ZONE 11 *
HORIZONTAL_UNITS METERS *
HORIZONTAL_RESOLUTION 1.000 *
SECONDARY_HORIZONTAL_DATUM NAD27 *
XY_ORIGIN 278520.000 3938460.000 *
SECONDARY_XY_ORIGIN 278600.991 3938263.324 *
NATION US *
STATE CA *
NW_QUAD_CORNER_XY 279085.201 3938159.011 *
NE_QUAD_CORNER_XY 284750.755 3938020.548 *
SE_QUAD_CORNER_XY 284583.633 3931086.977 *
SW_QUAD_CORNER_XY 278913.673 3931225.337 *
SECONDARY_NW_QUAD_XY 279080.014 3937959.849 *
SECONDARY_NE_QUAD_XY 284745.701 3937821.382 *
SECONDARY_SE_QUAD_XY 284578.583 3930887.993 *
SECONDARY_SW_QUAD_XY 278908.490 3931026.356 *
RMSE_XY 0.640 *
IMAGE_SOURCE "BLACK AND WHITE FILM" *
SOURCE_IMAGE_ID "NAPP 6918 196" *
SOURCE_IMAGE_DATE 1994 05 10 *
SOURCE_DEM_DATE 1953 00 00 *
AGENCY "WESTERN MAPPING CENTER (WMC)" *
PRODUCER "ANALYTICAL SURVEYS INC." *
PRODUCTION_SYSTEM "ORBIT OR_RECTIFY V.5.2" *
STANDARD_VERSION 1996 12 *
METADATA_DATE 1998 12 03 *
DATA_FILE_SIZE 50233740 *
BYTE_COUNT 6540 * * * * * * * * * * * * * * * * * * * * * * * * * * * * * * * * * * * * * * *
END_USGS_HEADER *
