BEGIN_USGS_DOQ_HEADER *
QUADRANGLE_NAME "SEMITROPIC" *
QUADRANT SE *
NORTH_LATITUDE 35 33 45.000 *
WEST_LONGITUDE -119 33 45.000 *
SOUTH_LATITUDE 35 30 00.000 *
EAST_LONGITUDE -119 30 00.000 *
PRODUCTION_DATE 1998 12 02 *
RASTER_ORDER LEFT_RIGHT/TOP_BOTTOM *
BAND_ORGANIZATION "SINGLE FILE" *
BAND_CONTENT BLACK&WHITE *
BITS_PER_PIXEL 8 *
SAMPLES_AND_LINES 6540 7710 *
HORIZONTAL_DATUM NAD83 *
HORIZONTAL_COORDINATE_SYSTEM UTM *
COORDINATE_ZONE 11 *
HORIZONTAL_UNITS METERS *
HORIZONTAL_RESOLUTION 1.000 *
SECONDARY_HORIZONTAL_DATUM NAD27 *
XY_ORIGIN 267180.000 3938760.000 *
SECONDARY_XY_ORIGIN 267261.237 3938563.080 *
NATION US *
STATE CA *
NW_QUAD_CORNER_XY 267753.834 3938446.748 *
NE_QUAD_CORNER_XY 273419.562 3938301.078 *
SE_QUAD_CORNER_XY 273243.627 3931367.297 *
SW_QUAD_CORNER_XY 267573.492 3931512.858 *
SECONDARY_NW_QUAD_XY 267748.380 3938247.593 *
SECONDARY_NE_QUAD_XY 273414.241 3938101.919 *
SECONDARY_SE_QUAD_XY 273238.311 3931168.319 *
SECONDARY_SW_QUAD_XY 267568.043 3931313.884 *
RMSE_XY 0.820 *
IMAGE_SOURCE "BLACK AND WHITE FILM" *
SOURCE_IMAGE_ID "NAPP 6918 106" *
SOURCE_IMAGE_DATE 1994 05 10 *
SOURCE_DEM_DATE 1973 00 00 *
AGENCY "WESTERN MAPPING CENTER (WMC)" *
PRODUCER "ANALYTICAL SURVEYS INC." *
PRODUCTION_SYSTEM "ORBIT OR_RECTIFY V.5.2" *
STANDARD_VERSION 1996 12 *
METADATA_DATE 1998 12 03 *
DATA_FILE_SIZE 50429940 *
BYTE_COUNT 6540 * * * * * * * * * * * * * * * * * * * * * * * * * * * * * * * * * * * * * * *
END_USGS_HEADER *
