BEGIN_USGS_DOQ_HEADER *
QUADRANGLE_NAME "LOST HILLS" *
QUADRANT SW *
NORTH_LATITUDE 35 33 45.000 *
WEST_LONGITUDE -119 45 00.000 *
SOUTH_LATITUDE 35 30 00.000 *
EAST_LONGITUDE -119 41 15.000 *
PRODUCTION_DATE 1998 11 30 *
RASTER_ORDER LEFT_RIGHT/TOP_BOTTOM *
BAND_ORGANIZATION "SINGLE FILE" *
BAND_CONTENT BLACK&WHITE *
BITS_PER_PIXEL 8 *
SAMPLES_AND_LINES 6570 7710 *
HORIZONTAL_DATUM NAD83 *
HORIZONTAL_COORDINATE_SYSTEM UTM *
COORDINATE_ZONE 11 *
HORIZONTAL_UNITS METERS *
HORIZONTAL_RESOLUTION 1.000 *
SECONDARY_HORIZONTAL_DATUM NAD27 *
XY_ORIGIN 250170.000 3939210.000 *
SECONDARY_XY_ORIGIN 250251.670 3939012.668 *
NATION US *
STATE CA *
NW_QUAD_CORNER_XY 250756.103 3938905.385 *
NE_QUAD_CORNER_XY 256422.107 3938748.901 *
SE_QUAD_CORNER_XY 256232.949 3931814.784 *
SW_QUAD_CORNER_XY 250562.536 3931971.151 *
SECONDARY_NW_QUAD_XY 250750.249 3938706.241 *
SECONDARY_NE_QUAD_XY 256416.387 3938549.753 *
SECONDARY_SE_QUAD_XY 256227.234 3931615.818 *
SECONDARY_SW_QUAD_XY 250556.688 3931772.188 *
RMSE_XY 0.740 *
IMAGE_SOURCE "BLACK AND WHITE FILM" *
SOURCE_IMAGE_ID "NAPP 6916 212" *
SOURCE_IMAGE_DATE 1994 05 02 *
SOURCE_DEM_DATE 1973 00 00 *
AGENCY "WESTERN MAPPING CENTER (WMC)" *
PRODUCER "ANALYTICAL SURVEYS INC." *
PRODUCTION_SYSTEM "ORBIT OR_RECTIFY V.5.2" *
STANDARD_VERSION 1996 12 *
METADATA_DATE 1998 12 01 *
DATA_FILE_SIZE 50661270 *
BYTE_COUNT 6570 * * * * * * * * * * * * * * * * * * * * * * * * * * * * * * * * * * * * * * * *
END_USGS_HEADER *
