BEGIN_USGS_DOQ_HEADER *
QUADRANGLE_NAME "BLACKWELLS CORNER" *
QUADRANT NE *
NORTH_LATITUDE 35 37 30.000 *
WEST_LONGITUDE -119 48 45.000 *
SOUTH_LATITUDE 35 33 45.000 *
EAST_LONGITUDE -119 45 00.000 *
PRODUCTION_DATE 1998 11 30 *
RASTER_ORDER LEFT_RIGHT/TOP_BOTTOM *
BAND_ORGANIZATION "SINGLE FILE" *
BAND_CONTENT BLACK&WHITE *
BITS_PER_PIXEL 8 *
SAMPLES_AND_LINES 6570 7740 *
HORIZONTAL_DATUM NAD83 *
HORIZONTAL_COORDINATE_SYSTEM UTM *
COORDINATE_ZONE 11 *
HORIZONTAL_UNITS METERS *
HORIZONTAL_RESOLUTION 1.000 *
SECONDARY_HORIZONTAL_DATUM NAD27 *
XY_ORIGIN 244680.000 3946320.000 *
SECONDARY_XY_ORIGIN 244761.613 3946122.426 *
NATION US *
STATE CA *
NW_QUAD_CORNER_XY 245288.283 3945999.884 *
NE_QUAD_CORNER_XY 250949.967 3945839.675 *
SE_QUAD_CORNER_XY 250756.103 3938905.385 *
SW_QUAD_CORNER_XY 245090.002 3939065.475 *
SECONDARY_NW_QUAD_XY 245282.291 3945800.563 *
SECONDARY_NE_QUAD_XY 250944.108 3945640.350 *
SECONDARY_SE_QUAD_XY 250750.249 3938706.241 *
SECONDARY_SW_QUAD_XY 245084.015 3938866.334 *
RMSE_XY 1.150 *
IMAGE_SOURCE "BLACK AND WHITE FILM" *
SOURCE_IMAGE_ID "NAPP 6916 199" *
SOURCE_IMAGE_DATE 1994 05 02 *
SOURCE_DEM_DATE 1982 00 00 *
AGENCY "WESTERN MAPPING CENTER (WMC)" *
PRODUCER "ANALYTICAL SURVEYS INC." *
PRODUCTION_SYSTEM "ORBIT OR_RECTIFY V.5.2" *
STANDARD_VERSION 1996 12 *
METADATA_DATE 1998 12 01 *
DATA_FILE_SIZE 50858370 *
BYTE_COUNT 6570 * * * * * * * * * * * * * * * * * * * * * * * * * * * * * * * * * * * * * * * *
END_USGS_HEADER *
