BEGIN_USGS_DOQ_HEADER *
QUADRANGLE_NAME "SHALE POINT" *
QUADRANT NE *
NORTH_LATITUDE 35 37 30.000 *
WEST_LONGITUDE -119 56 15.000 *
SOUTH_LATITUDE 35 33 45.000 *
EAST_LONGITUDE -119 52 30.000 *
PRODUCTION_DATE 1998 11 30 *
RASTER_ORDER LEFT_RIGHT/TOP_BOTTOM *
BAND_ORGANIZATION "SINGLE FILE" *
BAND_CONTENT BLACK&WHITE *
BITS_PER_PIXEL 8 *
SAMPLES_AND_LINES 6600 7740 *
HORIZONTAL_DATUM NAD83 *
HORIZONTAL_COORDINATE_SYSTEM UTM *
COORDINATE_ZONE 11 *
HORIZONTAL_UNITS METERS *
HORIZONTAL_RESOLUTION 1.000 *
SECONDARY_HORIZONTAL_DATUM NAD27 *
XY_ORIGIN 233340.000 3946650.000 *
SECONDARY_XY_ORIGIN 233421.790 3946452.131 *
NATION US *
STATE CA *
NW_QUAD_CORNER_XY 233964.617 3946331.129 *
NE_QUAD_CORNER_XY 239626.500 3946163.702 *
SE_QUAD_CORNER_XY 239423.802 3939229.171 *
SW_QUAD_CORNER_XY 233757.502 3939396.474 *
SECONDARY_NW_QUAD_XY 233958.359 3946131.816 *
SECONDARY_NE_QUAD_XY 239620.375 3945964.385 *
SECONDARY_SE_QUAD_XY 239417.683 3939030.034 *
SECONDARY_SW_QUAD_XY 233751.249 3939197.341 *
RMSE_XY 1.720 *
IMAGE_SOURCE "BLACK AND WHITE FILM" *
SOURCE_IMAGE_ID "NAPP 6916 130" *
SOURCE_IMAGE_DATE 1994 05 02 *
SOURCE_DEM_DATE 1982 00 00 *
AGENCY "WESTERN MAPPING CENTER (WMC)" *
PRODUCER "ANALYTICAL SURVEYS INC." *
PRODUCTION_SYSTEM "ORBIT OR_RECTIFY V.5.2" *
STANDARD_VERSION 1996 12 *
METADATA_DATE 1998 12 01 *
DATA_FILE_SIZE 51090600 *
BYTE_COUNT 6600 * * * * * * * * * * * * * * * * * * * * * * * * * * * * * * * * * * * * * * * *
END_USGS_HEADER *
