BEGIN_USGS_DOQ_HEADER *
QUADRANGLE_NAME "SHALE POINT" *
QUADRANT SE *
NORTH_LATITUDE 35 33 45.000 *
WEST_LONGITUDE -119 56 15.000 *
SOUTH_LATITUDE 35 30 00.000 *
EAST_LONGITUDE -119 52 30.000 *
PRODUCTION_DATE 1998 11 30 *
RASTER_ORDER LEFT_RIGHT/TOP_BOTTOM *
BAND_ORGANIZATION "SINGLE FILE" *
BAND_CONTENT BLACK&WHITE *
BITS_PER_PIXEL 8 *
SAMPLES_AND_LINES 6570 7740 *
HORIZONTAL_DATUM NAD83 *
HORIZONTAL_COORDINATE_SYSTEM UTM *
COORDINATE_ZONE 11 *
HORIZONTAL_UNITS METERS *
HORIZONTAL_RESOLUTION 1.000 *
SECONDARY_HORIZONTAL_DATUM NAD27 *
XY_ORIGIN 233160.000 3939720.000 *
SECONDARY_XY_ORIGIN 233241.943 3939522.195 *
NATION US *
STATE CA *
NW_QUAD_CORNER_XY 233757.502 3939396.474 *
NE_QUAD_CORNER_XY 239423.802 3939229.171 *
SE_QUAD_CORNER_XY 239221.415 3932294.694 *
SW_QUAD_CORNER_XY 233550.704 3932461.872 *
SECONDARY_NW_QUAD_XY 233751.249 3939197.341 *
SECONDARY_NE_QUAD_XY 239417.683 3939030.034 *
SECONDARY_SE_QUAD_XY 239215.301 3932095.739 *
SECONDARY_SW_QUAD_XY 233544.456 3932262.920 *
RMSE_XY 2.270 *
IMAGE_SOURCE "BLACK AND WHITE FILM" *
SOURCE_IMAGE_ID "NAPP 6916 132" *
SOURCE_IMAGE_DATE 1994 05 02 *
SOURCE_DEM_DATE 1982 00 00 *
AGENCY "WESTERN MAPPING CENTER (WMC)" *
PRODUCER "ANALYTICAL SURVEYS INC." *
PRODUCTION_SYSTEM "ORBIT OR_RECTIFY V.5.2" *
STANDARD_VERSION 1996 12 *
METADATA_DATE 1998 12 01 *
DATA_FILE_SIZE 50858370 *
BYTE_COUNT 6570 * * * * * * * * * * * * * * * * * * * * * * * * * * * * * * * * * * * * * * * *
END_USGS_HEADER *
