BEGIN_USGS_DOQ_HEADER *
QUADRANGLE_NAME "SHALE POINT" *
QUADRANT SW *
NORTH_LATITUDE 35 33 45.000 *
WEST_LONGITUDE -120 00 00.000 *
SOUTH_LATITUDE 35 30 00.000 *
EAST_LONGITUDE -119 56 15.000 *
PRODUCTION_DATE 1998 11 30 *
RASTER_ORDER LEFT_RIGHT/TOP_BOTTOM *
BAND_ORGANIZATION "SINGLE FILE" *
BAND_CONTENT BLACK&WHITE *
BITS_PER_PIXEL 8 *
SAMPLES_AND_LINES 6570 7710 *
HORIZONTAL_DATUM NAD83 *
HORIZONTAL_COORDINATE_SYSTEM UTM *
COORDINATE_ZONE 11 *
HORIZONTAL_UNITS METERS *
HORIZONTAL_RESOLUTION 1.000 *
SECONDARY_HORIZONTAL_DATUM NAD27 *
XY_ORIGIN 227490.000 3939870.000 *
SECONDARY_XY_ORIGIN 227572.038 3939672.039 *
NATION US *
STATE CA *
NW_QUAD_CORNER_XY 228091.098 3939567.384 *
NE_QUAD_CORNER_XY 233757.502 3939396.474 *
SE_QUAD_CORNER_XY 233550.704 3932461.872 *
SW_QUAD_CORNER_XY 227879.888 3932632.654 *
SECONDARY_NW_QUAD_XY 228084.712 3939368.256 *
SECONDARY_NE_QUAD_XY 233751.249 3939197.341 *
SECONDARY_SE_QUAD_XY 233544.456 3932262.920 *
SECONDARY_SW_QUAD_XY 227873.507 3932433.707 *
RMSE_XY 3.380 *
IMAGE_SOURCE "BLACK AND WHITE FILM" *
SOURCE_IMAGE_ID "NAPP 6915 270" *
SOURCE_IMAGE_DATE 1994 04 21 *
SOURCE_DEM_DATE 1982 00 00 *
AGENCY "WESTERN MAPPING CENTER (WMC)" *
PRODUCER "ANALYTICAL SURVEYS INC." *
PRODUCTION_SYSTEM "ORBIT OR_RECTIFY V.5.2" *
STANDARD_VERSION 1996 12 *
METADATA_DATE 1998 12 01 *
DATA_FILE_SIZE 50661270 *
BYTE_COUNT 6570 * * * * * * * * * * * * * * * * * * * * * * * * * * * * * * * * * * * * * * * *
END_USGS_HEADER *
