BEGIN_USGS_DOQ_HEADER *
QUADRANGLE_NAME "DEEPWELL RANCH" *
QUADRANT NE *
NORTH_LATITUDE 35 45 00.000 *
WEST_LONGITUDE -119 03 45.000 *
SOUTH_LATITUDE 35 41 15.000 *
EAST_LONGITUDE -119 00 00.000 *
PRODUCTION_DATE 1998 12 04 *
RASTER_ORDER LEFT_RIGHT/TOP_BOTTOM *
BAND_ORGANIZATION "SINGLE FILE" *
BAND_CONTENT BLACK&WHITE *
BITS_PER_PIXEL 8 *
SAMPLES_AND_LINES 6510 7680 *
HORIZONTAL_DATUM NAD83 *
HORIZONTAL_COORDINATE_SYSTEM UTM *
COORDINATE_ZONE 11 *
HORIZONTAL_UNITS METERS *
HORIZONTAL_RESOLUTION 1.000 *
SECONDARY_HORIZONTAL_DATUM NAD27 *
XY_ORIGIN 312960.000 3958500.000 *
SECONDARY_XY_ORIGIN 313040.268 3958303.725 *
NATION US *
STATE CA *
NW_QUAD_CORNER_XY 313513.959 3958181.911 *
NE_QUAD_CORNER_XY 319165.797 3958064.796 *
SE_QUAD_CORNER_XY 319024.450 3951131.602 *
SW_QUAD_CORNER_XY 313368.189 3951248.631 *
SECONDARY_NW_QUAD_XY 313509.559 3957982.191 *
SECONDARY_NE_QUAD_XY 319161.531 3957865.074 *
SECONDARY_SE_QUAD_XY 319020.187 3950932.058 *
SECONDARY_SW_QUAD_XY 313363.793 3951049.090 *
RMSE_XY 2.070 *
IMAGE_SOURCE "BLACK AND WHITE FILM" *
SOURCE_IMAGE_ID "NAPP 6921 263" *
SOURCE_IMAGE_DATE 1994 09 03 *
SOURCE_DEM_DATE 1992 00 00 *
AGENCY "WESTERN MAPPING CENTER (WMC)" *
PRODUCER "ANALYTICAL SURVEYS INC." *
PRODUCTION_SYSTEM "ORBIT OR_RECTIFY V.5.2" *
STANDARD_VERSION 1996 12 *
METADATA_DATE 1998 12 07 *
DATA_FILE_SIZE 50003310 *
BYTE_COUNT 6510 * * * * * * * * * * * * * * * * * * * * * * * * * * * * * * * * * * * * * * *
END_USGS_HEADER *
