BEGIN_USGS_DOQ_HEADER *
QUADRANGLE_NAME "DEEPWELL RANCH" *
QUADRANT NW *
NORTH_LATITUDE 35 45 00.000 *
WEST_LONGITUDE -119 07 30.000 *
SOUTH_LATITUDE 35 41 15.000 *
EAST_LONGITUDE -119 03 45.000 *
PRODUCTION_DATE 1998 12 04 *
RASTER_ORDER LEFT_RIGHT/TOP_BOTTOM *
BAND_ORGANIZATION "SINGLE FILE" *
BAND_CONTENT BLACK&WHITE *
BITS_PER_PIXEL 8 *
SAMPLES_AND_LINES 6510 7680 *
HORIZONTAL_DATUM NAD83 *
HORIZONTAL_COORDINATE_SYSTEM UTM *
COORDINATE_ZONE 11 *
HORIZONTAL_UNITS METERS *
HORIZONTAL_RESOLUTION 1.000 *
SECONDARY_HORIZONTAL_DATUM NAD27 *
XY_ORIGIN 307320.000 3958620.000 *
SECONDARY_XY_ORIGIN 307400.366 3958423.638 *
NATION US *
STATE CA *
NW_QUAD_CORNER_XY 307862.050 3958302.634 *
NE_QUAD_CORNER_XY 313513.959 3958181.911 *
SE_QUAD_CORNER_XY 313368.189 3951248.631 *
SW_QUAD_CORNER_XY 307711.857 3951369.265 *
SECONDARY_NW_QUAD_XY 307857.517 3958102.918 *
SECONDARY_NE_QUAD_XY 313509.559 3957982.191 *
SECONDARY_SE_QUAD_XY 313363.793 3951049.090 *
SECONDARY_SW_QUAD_XY 307707.327 3951169.727 *
RMSE_XY 0.850 *
IMAGE_SOURCE "BLACK AND WHITE FILM" *
SOURCE_IMAGE_ID "NAPP 6927 127" *
SOURCE_IMAGE_DATE 1994 09 04 *
SOURCE_DEM_DATE 1992 00 00 *
AGENCY "WESTERN MAPPING CENTER (WMC)" *
PRODUCER "ANALYTICAL SURVEYS INC." *
PRODUCTION_SYSTEM "ORBIT OR_RECTIFY V.5.2" *
STANDARD_VERSION 1996 12 *
METADATA_DATE 1998 12 08 *
DATA_FILE_SIZE 50003310 *
BYTE_COUNT 6510 * * * * * * * * * * * * * * * * * * * * * * * * * * * * * * * * * * * * * * *
END_USGS_HEADER *
