BEGIN_USGS_DOQ_HEADER *
QUADRANGLE_NAME "DEEPWELL RANCH" *
QUADRANT SE *
NORTH_LATITUDE 35 41 15.000 *
WEST_LONGITUDE -119 03 45.000 *
SOUTH_LATITUDE 35 37 30.000 *
EAST_LONGITUDE -119 00 00.000 *
PRODUCTION_DATE 1998 12 04 *
RASTER_ORDER LEFT_RIGHT/TOP_BOTTOM *
BAND_ORGANIZATION "SINGLE FILE" *
BAND_CONTENT BLACK&WHITE *
BITS_PER_PIXEL 8 *
SAMPLES_AND_LINES 6540 7680 *
HORIZONTAL_DATUM NAD83 *
HORIZONTAL_COORDINATE_SYSTEM UTM *
COORDINATE_ZONE 11 *
HORIZONTAL_UNITS METERS *
HORIZONTAL_RESOLUTION 1.000 *
SECONDARY_HORIZONTAL_DATUM NAD27 *
XY_ORIGIN 312810.000 3951570.000 *
SECONDARY_XY_ORIGIN 312890.328 3951373.809 *
NATION US *
STATE CA *
NW_QUAD_CORNER_XY 313368.189 3951248.631 *
NE_QUAD_CORNER_XY 319024.450 3951131.602 *
SE_QUAD_CORNER_XY 318883.318 3944198.471 *
SW_QUAD_CORNER_XY 313222.642 3944315.413 *
SECONDARY_NW_QUAD_XY 313363.793 3951049.090 *
SECONDARY_NE_QUAD_XY 319020.187 3950932.058 *
SECONDARY_SE_QUAD_XY 318879.059 3943999.107 *
SECONDARY_SW_QUAD_XY 313218.249 3944116.052 *
RMSE_XY 1.170 *
IMAGE_SOURCE "BLACK AND WHITE FILM" *
SOURCE_IMAGE_ID "NAPP 6921 261" *
SOURCE_IMAGE_DATE 1994 09 03 *
SOURCE_DEM_DATE 1992 00 00 *
AGENCY "WESTERN MAPPING CENTER (WMC)" *
PRODUCER "ANALYTICAL SURVEYS INC." *
PRODUCTION_SYSTEM "ORBIT OR_RECTIFY V.5.2" *
STANDARD_VERSION 1996 12 *
METADATA_DATE 1998 12 07 *
DATA_FILE_SIZE 50233740 *
BYTE_COUNT 6540 * * * * * * * * * * * * * * * * * * * * * * * * * * * * * * * * * * * * * * *
END_USGS_HEADER *
