BEGIN_USGS_DOQ_HEADER *
QUADRANGLE_NAME "MCFARLAND" *
QUADRANT NW *
NORTH_LATITUDE 35 45 00.000 *
WEST_LONGITUDE -119 15 00.000 *
SOUTH_LATITUDE 35 41 15.000 *
EAST_LONGITUDE -119 11 15.000 *
PRODUCTION_DATE 1998 12 04 *
RASTER_ORDER LEFT_RIGHT/TOP_BOTTOM *
BAND_ORGANIZATION "SINGLE FILE" *
BAND_CONTENT BLACK&WHITE *
BITS_PER_PIXEL 8 *
SAMPLES_AND_LINES 6510 7680 *
HORIZONTAL_DATUM NAD83 *
HORIZONTAL_COORDINATE_SYSTEM UTM *
COORDINATE_ZONE 11 *
HORIZONTAL_UNITS METERS *
HORIZONTAL_RESOLUTION 1.000 *
SECONDARY_HORIZONTAL_DATUM NAD27 *
XY_ORIGIN 296010.000 3958860.000 *
SECONDARY_XY_ORIGIN 296090.562 3958663.465 *
NATION US *
STATE CA *
NW_QUAD_CORNER_XY 296558.011 3958554.907 *
NE_QUAD_CORNER_XY 302210.068 3958426.966 *
SE_QUAD_CORNER_XY 302055.451 3951493.506 *
SW_QUAD_CORNER_XY 296398.969 3951621.353 *
SECONDARY_NW_QUAD_XY 296553.210 3958355.196 *
SECONDARY_NE_QUAD_XY 302205.401 3958227.252 *
SECONDARY_SE_QUAD_XY 302050.788 3951293.971 *
SECONDARY_SW_QUAD_XY 296394.173 3951421.821 *
RMSE_XY 0.590 *
IMAGE_SOURCE "BLACK AND WHITE FILM" *
SOURCE_IMAGE_ID "NAPP 6927 24" *
SOURCE_IMAGE_DATE 1994 09 04 *
SOURCE_DEM_DATE 1992 00 00 *
AGENCY "WESTERN MAPPING CENTER (WMC)" *
PRODUCER "ANALYTICAL SURVEYS INC." *
PRODUCTION_SYSTEM "ORBIT OR_RECTIFY V.5.2" *
STANDARD_VERSION 1996 12 *
METADATA_DATE 1998 12 07 *
DATA_FILE_SIZE 50003310 *
BYTE_COUNT 6510 * * * * * * * * * * * * * * * * * * * * * * * * * * * * * * * * * * * * * * *
END_USGS_HEADER *
