BEGIN_USGS_DOQ_HEADER *
QUADRANGLE_NAME "POND" *
QUADRANT SE *
NORTH_LATITUDE 35 41 15.000 *
WEST_LONGITUDE -119 18 45.000 *
SOUTH_LATITUDE 35 37 30.000 *
EAST_LONGITUDE -119 15 00.000 *
PRODUCTION_DATE 1998 12 02 *
RASTER_ORDER LEFT_RIGHT/TOP_BOTTOM *
BAND_ORGANIZATION "SINGLE FILE" *
BAND_CONTENT BLACK&WHITE *
BITS_PER_PIXEL 8 *
SAMPLES_AND_LINES 6510 7710 *
HORIZONTAL_DATUM NAD83 *
HORIZONTAL_COORDINATE_SYSTEM UTM *
COORDINATE_ZONE 11 *
HORIZONTAL_UNITS METERS *
HORIZONTAL_RESOLUTION 1.000 *
SECONDARY_HORIZONTAL_DATUM NAD27 *
XY_ORIGIN 290190.000 3952080.000 *
SECONDARY_XY_ORIGIN 290270.708 3951883.410 *
NATION US *
STATE CA *
NW_QUAD_CORNER_XY 290742.410 3951752.807 *
NE_QUAD_CORNER_XY 296398.969 3951621.353 *
SE_QUAD_CORNER_XY 296240.171 3944687.860 *
SW_QUAD_CORNER_XY 290579.193 3944819.217 *
SECONDARY_NW_QUAD_XY 290737.480 3951553.278 *
SECONDARY_NE_QUAD_XY 296394.173 3951421.821 *
SECONDARY_SE_QUAD_XY 296235.378 3944488.508 *
SECONDARY_SW_QUAD_XY 290574.267 3944619.868 *
RMSE_XY 0.430 *
IMAGE_SOURCE "BLACK AND WHITE FILM" *
SOURCE_IMAGE_ID "NAPP 6925 263" *
SOURCE_IMAGE_DATE 1994 06 01 *
SOURCE_DEM_DATE 1969 00 00 *
AGENCY "WESTERN MAPPING CENTER (WMC)" *
PRODUCER "ANALYTICAL SURVEYS INC." *
PRODUCTION_SYSTEM "ORBIT OR_RECTIFY V.5.2" *
STANDARD_VERSION 1996 12 *
METADATA_DATE 1998 12 03 *
DATA_FILE_SIZE 50198610 *
BYTE_COUNT 6510 * * * * * * * * * * * * * * * * * * * * * * * * * * * * * * * * * * * * * * *
END_USGS_HEADER *
