BEGIN_USGS_DOQ_HEADER *
QUADRANGLE_NAME "WASCO NW" *
QUADRANT NE *
NORTH_LATITUDE 35 45 00.000 *
WEST_LONGITUDE -119 26 15.000 *
SOUTH_LATITUDE 35 41 15.000 *
EAST_LONGITUDE -119 22 30.000 *
PRODUCTION_DATE 1998 12 02 *
RASTER_ORDER LEFT_RIGHT/TOP_BOTTOM *
BAND_ORGANIZATION "SINGLE FILE" *
BAND_CONTENT BLACK&WHITE *
BITS_PER_PIXEL 8 *
SAMPLES_AND_LINES 6540 7710 *
HORIZONTAL_DATUM NAD83 *
HORIZONTAL_COORDINATE_SYSTEM UTM *
COORDINATE_ZONE 11 *
HORIZONTAL_UNITS METERS *
HORIZONTAL_RESOLUTION 1.000 *
SECONDARY_HORIZONTAL_DATUM NAD27 *
XY_ORIGIN 279030.000 3959280.000 *
SECONDARY_XY_ORIGIN 279110.847 3959083.119 *
NATION US *
STATE CA *
NW_QUAD_CORNER_XY 279601.366 3958960.390 *
NE_QUAD_CORNER_XY 285253.662 3958821.619 *
SE_QUAD_CORNER_XY 285085.770 3951887.869 *
SW_QUAD_CORNER_XY 279429.048 3952026.538 *
SECONDARY_NW_QUAD_XY 279596.165 3958760.689 *
SECONDARY_NE_QUAD_XY 285248.594 3958621.914 *
SECONDARY_SE_QUAD_XY 285080.707 3951688.343 *
SECONDARY_SW_QUAD_XY 279423.851 3951827.016 *
RMSE_XY 0.750 *
IMAGE_SOURCE "BLACK AND WHITE FILM" *
SOURCE_IMAGE_ID "NAPP 6918 202" *
SOURCE_IMAGE_DATE 1994 05 10 *
SOURCE_DEM_DATE 1969 00 00 *
AGENCY "WESTERN MAPPING CENTER (WMC)" *
PRODUCER "ANALYTICAL SURVEYS INC." *
PRODUCTION_SYSTEM "ORBIT OR_RECTIFY V.5.2" *
STANDARD_VERSION 1996 12 *
METADATA_DATE 1998 12 03 *
DATA_FILE_SIZE 50429940 *
BYTE_COUNT 6540 * * * * * * * * * * * * * * * * * * * * * * * * * * * * * * * * * * * * * * *
END_USGS_HEADER *
