BEGIN_USGS_DOQ_HEADER *
QUADRANGLE_NAME "WASCO NW" *
QUADRANT NW *
NORTH_LATITUDE 35 45 00.000 *
WEST_LONGITUDE -119 30 00.000 *
SOUTH_LATITUDE 35 41 15.000 *
EAST_LONGITUDE -119 26 15.000 *
PRODUCTION_DATE 1998 12 02 *
RASTER_ORDER LEFT_RIGHT/TOP_BOTTOM *
BAND_ORGANIZATION "SINGLE FILE" *
BAND_CONTENT BLACK&WHITE *
BITS_PER_PIXEL 8 *
SAMPLES_AND_LINES 6570 7710 *
HORIZONTAL_DATUM NAD83 *
HORIZONTAL_COORDINATE_SYSTEM UTM *
COORDINATE_ZONE 11 *
HORIZONTAL_UNITS METERS *
HORIZONTAL_RESOLUTION 1.000 *
SECONDARY_HORIZONTAL_DATUM NAD27 *
XY_ORIGIN 273360.000 3959430.000 *
SECONDARY_XY_ORIGIN 273440.942 3959233.002 *
NATION US *
STATE CA *
NW_QUAD_CORNER_XY 273948.986 3959102.772 *
NE_QUAD_CORNER_XY 279601.366 3958960.390 *
SE_QUAD_CORNER_XY 279429.048 3952026.538 *
SW_QUAD_CORNER_XY 273772.241 3952168.816 *
SECONDARY_NW_QUAD_XY 273943.651 3958903.074 *
SECONDARY_NE_QUAD_XY 279596.165 3958760.689 *
SECONDARY_SE_QUAD_XY 279423.851 3951827.016 *
SECONDARY_SW_QUAD_XY 273766.912 3951969.297 *
RMSE_XY 0.580 *
IMAGE_SOURCE "BLACK AND WHITE FILM" *
SOURCE_IMAGE_ID "NAPP 6918 163" *
SOURCE_IMAGE_DATE 1994 05 10 *
SOURCE_DEM_DATE 1969 00 00 *
AGENCY "WESTERN MAPPING CENTER (WMC)" *
PRODUCER "ANALYTICAL SURVEYS INC." *
PRODUCTION_SYSTEM "ORBIT OR_RECTIFY V.5.2" *
STANDARD_VERSION 1996 12 *
METADATA_DATE 1998 12 03 *
DATA_FILE_SIZE 50661270 *
BYTE_COUNT 6570 * * * * * * * * * * * * * * * * * * * * * * * * * * * * * * * * * * * * * * * *
END_USGS_HEADER *
