BEGIN_USGS_DOQ_HEADER *
QUADRANGLE_NAME "WASCO NW" *
QUADRANT SE *
NORTH_LATITUDE 35 41 15.000 *
WEST_LONGITUDE -119 26 15.000 *
SOUTH_LATITUDE 35 37 30.000 *
EAST_LONGITUDE -119 22 30.000 *
PRODUCTION_DATE 1998 12 02 *
RASTER_ORDER LEFT_RIGHT/TOP_BOTTOM *
BAND_ORGANIZATION "SINGLE FILE" *
BAND_CONTENT BLACK&WHITE *
BITS_PER_PIXEL 8 *
SAMPLES_AND_LINES 6540 7710 *
HORIZONTAL_DATUM NAD83 *
HORIZONTAL_COORDINATE_SYSTEM UTM *
COORDINATE_ZONE 11 *
HORIZONTAL_UNITS METERS *
HORIZONTAL_RESOLUTION 1.000 *
SECONDARY_HORIZONTAL_DATUM NAD27 *
XY_ORIGIN 278850.000 3952350.000 *
SECONDARY_XY_ORIGIN 278930.895 3952153.186 *
NATION US *
STATE CA *
NW_QUAD_CORNER_XY 279429.048 3952026.538 *
NE_QUAD_CORNER_XY 285085.770 3951887.869 *
SE_QUAD_CORNER_XY 284918.134 3944954.178 *
SW_QUAD_CORNER_XY 279256.993 3945092.745 *
SECONDARY_NW_QUAD_XY 279423.851 3951827.016 *
SECONDARY_NE_QUAD_XY 285080.707 3951688.343 *
SECONDARY_SE_QUAD_XY 284913.076 3944754.832 *
SECONDARY_SW_QUAD_XY 279251.801 3944893.402 *
RMSE_XY 0.790 *
IMAGE_SOURCE "BLACK AND WHITE FILM" *
SOURCE_IMAGE_ID "NAPP 6918 200" *
SOURCE_IMAGE_DATE 1994 05 10 *
SOURCE_DEM_DATE 1969 00 00 *
AGENCY "WESTERN MAPPING CENTER (WMC)" *
PRODUCER "ANALYTICAL SURVEYS INC." *
PRODUCTION_SYSTEM "ORBIT OR_RECTIFY V.5.2" *
STANDARD_VERSION 1996 12 *
METADATA_DATE 1998 12 03 *
DATA_FILE_SIZE 50429940 *
BYTE_COUNT 6540 * * * * * * * * * * * * * * * * * * * * * * * * * * * * * * * * * * * * * * *
END_USGS_HEADER *
