BEGIN_USGS_DOQ_HEADER *
QUADRANGLE_NAME "LOST HILLS NE" *
QUADRANT NW *
NORTH_LATITUDE 35 45 00.000 *
WEST_LONGITUDE -119 37 30.000 *
SOUTH_LATITUDE 35 41 15.000 *
EAST_LONGITUDE -119 33 45.000 *
PRODUCTION_DATE 1998 12 02 *
RASTER_ORDER LEFT_RIGHT/TOP_BOTTOM *
BAND_ORGANIZATION "SINGLE FILE" *
BAND_CONTENT BLACK&WHITE *
BITS_PER_PIXEL 8 *
SAMPLES_AND_LINES 6570 7710 *
HORIZONTAL_DATUM NAD83 *
HORIZONTAL_COORDINATE_SYSTEM UTM *
COORDINATE_ZONE 11 *
HORIZONTAL_UNITS METERS *
HORIZONTAL_RESOLUTION 1.000 *
SECONDARY_HORIZONTAL_DATUM NAD27 *
XY_ORIGIN 262050.000 3959700.000 *
SECONDARY_XY_ORIGIN 262131.103 3959502.701 *
NATION US *
STATE CA *
NW_QUAD_CORNER_XY 262643.966 3959398.371 *
NE_QUAD_CORNER_XY 268296.520 3959248.766 *
SE_QUAD_CORNER_XY 268115.348 3952314.702 *
SW_QUAD_CORNER_XY 262458.366 3952464.198 *
SECONDARY_NW_QUAD_XY 262638.365 3959198.680 *
SECONDARY_NE_QUAD_XY 268291.052 3959049.071 *
SECONDARY_SE_QUAD_XY 268109.885 3952115.187 *
SECONDARY_SW_QUAD_XY 262452.770 3952264.686 *
RMSE_XY 0.660 *
IMAGE_SOURCE "BLACK AND WHITE FILM" *
SOURCE_IMAGE_ID "NAPP 6918 75" *
SOURCE_IMAGE_DATE 1994 05 10 *
SOURCE_DEM_DATE 1973 00 00 *
AGENCY "WESTERN MAPPING CENTER (WMC)" *
PRODUCER "ANALYTICAL SURVEYS INC." *
PRODUCTION_SYSTEM "ORBIT OR_RECTIFY V.5.2" *
STANDARD_VERSION 1996 12 *
METADATA_DATE 1998 12 03 *
DATA_FILE_SIZE 50661270 *
BYTE_COUNT 6570 * * * * * * * * * * * * * * * * * * * * * * * * * * * * * * * * * * * * * * * *
END_USGS_HEADER *
