BEGIN_USGS_DOQ_HEADER *
QUADRANGLE_NAME "LOST HILLS NW" *
QUADRANT SE *
NORTH_LATITUDE 35 41 15.000 *
WEST_LONGITUDE -119 41 15.000 *
SOUTH_LATITUDE 35 37 30.000 *
EAST_LONGITUDE -119 37 30.000 *
PRODUCTION_DATE 1998 12 02 *
RASTER_ORDER LEFT_RIGHT/TOP_BOTTOM *
BAND_ORGANIZATION "SINGLE FILE" *
BAND_CONTENT BLACK&WHITE *
BITS_PER_PIXEL 8 *
SAMPLES_AND_LINES 6570 7710 *
HORIZONTAL_DATUM NAD83 *
HORIZONTAL_COORDINATE_SYSTEM UTM *
COORDINATE_ZONE 11 *
HORIZONTAL_UNITS METERS *
HORIZONTAL_RESOLUTION 1.000 *
SECONDARY_HORIZONTAL_DATUM NAD27 *
XY_ORIGIN 256200.000 3952920.000 *
SECONDARY_XY_ORIGIN 256281.295 3952722.635 *
NATION US *
STATE CA *
NW_QUAD_CORNER_XY 256801.294 3952617.304 *
NE_QUAD_CORNER_XY 262458.366 3952464.198 *
SE_QUAD_CORNER_XY 262273.050 3945530.082 *
SW_QUAD_CORNER_XY 256611.555 3945683.075 *
SECONDARY_NW_QUAD_XY 256795.564 3952417.796 *
SECONDARY_NE_QUAD_XY 262452.770 3952264.686 *
SECONDARY_SE_QUAD_XY 262267.458 3945330.749 *
SECONDARY_SW_QUAD_XY 256605.830 3945483.746 *
RMSE_XY 0.760 *
IMAGE_SOURCE "BLACK AND WHITE FILM" *
SOURCE_IMAGE_ID "NAPP 6918 22" *
SOURCE_IMAGE_DATE 1994 05 10 *
SOURCE_DEM_DATE 1973 00 00 *
AGENCY "WESTERN MAPPING CENTER (WMC)" *
PRODUCER "ANALYTICAL SURVEYS INC." *
PRODUCTION_SYSTEM "ORBIT OR_RECTIFY V.5.2" *
STANDARD_VERSION 1996 12 *
METADATA_DATE 1998 12 04 *
DATA_FILE_SIZE 50661270 *
BYTE_COUNT 6570 * * * * * * * * * * * * * * * * * * * * * * * * * * * * * * * * * * * * * * * *
END_USGS_HEADER *
