BEGIN_USGS_DOQ_HEADER *
QUADRANGLE_NAME "ANTELOPE PLAIN" *
QUADRANT NE *
NORTH_LATITUDE 35 45 00.000 *
WEST_LONGITUDE -119 48 45.000 *
SOUTH_LATITUDE 35 41 15.000 *
EAST_LONGITUDE -119 45 00.000 *
PRODUCTION_DATE 1998 12 01 *
RASTER_ORDER LEFT_RIGHT/TOP_BOTTOM *
BAND_ORGANIZATION "SINGLE FILE" *
BAND_CONTENT BLACK&WHITE *
BITS_PER_PIXEL 8 *
SAMPLES_AND_LINES 6570 7710 *
HORIZONTAL_DATUM NAD83 *
HORIZONTAL_COORDINATE_SYSTEM UTM *
COORDINATE_ZONE 11 *
HORIZONTAL_UNITS METERS *
HORIZONTAL_RESOLUTION 1.000 *
SECONDARY_HORIZONTAL_DATUM NAD27 *
XY_ORIGIN 245070.000 3960180.000 *
SECONDARY_XY_ORIGIN 245151.328 3959982.269 *
NATION US *
STATE CA *
NW_QUAD_CORNER_XY 245685.754 3959868.866 *
NE_QUAD_CORNER_XY 251338.585 3959708.421 *
SE_QUAD_CORNER_XY 251144.128 3952774.020 *
SW_QUAD_CORNER_XY 245486.867 3952934.348 *
SECONDARY_NW_QUAD_XY 245679.752 3959669.186 *
SECONDARY_NE_QUAD_XY 251332.717 3959508.737 *
SECONDARY_SE_QUAD_XY 251138.264 3952574.516 *
SECONDARY_SW_QUAD_XY 245480.870 3952734.847 *
RMSE_XY 0.660 *
IMAGE_SOURCE "BLACK AND WHITE FILM" *
SOURCE_IMAGE_ID "NAPP 6916 195" *
SOURCE_IMAGE_DATE 1994 05 02 *
SOURCE_DEM_DATE 1982 00 00 *
AGENCY "WESTERN MAPPING CENTER (WMC)" *
PRODUCER "ANALYTICAL SURVEYS INC." *
PRODUCTION_SYSTEM "ORBIT OR_RECTIFY V.5.2" *
STANDARD_VERSION 1996 12 *
METADATA_DATE 1998 12 04 *
DATA_FILE_SIZE 50661270 *
BYTE_COUNT 6570 * * * * * * * * * * * * * * * * * * * * * * * * * * * * * * * * * * * * * * * *
END_USGS_HEADER *
