BEGIN_USGS_DOQ_HEADER *
QUADRANGLE_NAME "ANTELOPE PLAIN" *
QUADRANT NW *
NORTH_LATITUDE 35 45 00.000 *
WEST_LONGITUDE -119 52 30.000 *
SOUTH_LATITUDE 35 41 15.000 *
EAST_LONGITUDE -119 48 45.000 *
PRODUCTION_DATE 1998 12 01 *
RASTER_ORDER LEFT_RIGHT/TOP_BOTTOM *
BAND_ORGANIZATION "SINGLE FILE" *
BAND_CONTENT BLACK&WHITE *
BITS_PER_PIXEL 8 *
SAMPLES_AND_LINES 6570 7740 *
HORIZONTAL_DATUM NAD83 *
HORIZONTAL_COORDINATE_SYSTEM UTM *
COORDINATE_ZONE 11 *
HORIZONTAL_UNITS METERS *
HORIZONTAL_RESOLUTION 1.000 *
SECONDARY_HORIZONTAL_DATUM NAD27 *
XY_ORIGIN 239430.000 3960360.000 *
SECONDARY_XY_ORIGIN 239511.404 3960162.139 *
NATION US *
STATE CA *
NW_QUAD_CORNER_XY 240032.826 3960032.925 *
NE_QUAD_CORNER_XY 245685.754 3959868.866 *
SE_QUAD_CORNER_XY 245486.867 3952934.348 *
SW_QUAD_CORNER_XY 239829.508 3953098.287 *
SECONDARY_NW_QUAD_XY 240026.691 3959833.249 *
SECONDARY_NE_QUAD_XY 245679.752 3959669.186 *
SECONDARY_SE_QUAD_XY 245480.870 3952734.847 *
SECONDARY_SW_QUAD_XY 239823.378 3952898.790 *
RMSE_XY 0.710 *
IMAGE_SOURCE "BLACK AND WHITE FILM" *
SOURCE_IMAGE_ID "NAPP 6916 142" *
SOURCE_IMAGE_DATE 1994 05 02 *
SOURCE_DEM_DATE 1982 00 00 *
AGENCY "WESTERN MAPPING CENTER (WMC)" *
PRODUCER "ANALYTICAL SURVEYS INC." *
PRODUCTION_SYSTEM "ORBIT OR_RECTIFY V.5.2" *
STANDARD_VERSION 1996 12 *
METADATA_DATE 1998 12 04 *
DATA_FILE_SIZE 50858370 *
BYTE_COUNT 6570 * * * * * * * * * * * * * * * * * * * * * * * * * * * * * * * * * * * * * * * *
END_USGS_HEADER *
