BEGIN_USGS_DOQ_HEADER *
QUADRANGLE_NAME "ANTELOPE PLAIN" *
QUADRANT SW *
NORTH_LATITUDE 35 41 15.000 *
WEST_LONGITUDE -119 52 30.000 *
SOUTH_LATITUDE 35 37 30.000 *
EAST_LONGITUDE -119 48 45.000 *
PRODUCTION_DATE 1998 12 02 *
RASTER_ORDER LEFT_RIGHT/TOP_BOTTOM *
BAND_ORGANIZATION "SINGLE FILE" *
BAND_CONTENT BLACK&WHITE *
BITS_PER_PIXEL 8 *
SAMPLES_AND_LINES 6570 7710 *
HORIZONTAL_DATUM NAD83 *
HORIZONTAL_COORDINATE_SYSTEM UTM *
COORDINATE_ZONE 11 *
HORIZONTAL_UNITS METERS *
HORIZONTAL_RESOLUTION 1.000 *
SECONDARY_HORIZONTAL_DATUM NAD27 *
XY_ORIGIN 239220.000 3953400.000 *
SECONDARY_XY_ORIGIN 239301.553 3953202.209 *
NATION US *
STATE CA *
NW_QUAD_CORNER_XY 239829.508 3953098.287 *
NE_QUAD_CORNER_XY 245486.867 3952934.348 *
SE_QUAD_CORNER_XY 245288.283 3945999.884 *
SW_QUAD_CORNER_XY 239626.500 3946163.702 *
SECONDARY_NW_QUAD_XY 239823.378 3952898.790 *
SECONDARY_NE_QUAD_XY 245480.870 3952734.847 *
SECONDARY_SE_QUAD_XY 245282.291 3945800.563 *
SECONDARY_SW_QUAD_XY 239620.375 3945964.385 *
RMSE_XY 0.590 *
IMAGE_SOURCE "BLACK AND WHITE FILM" *
SOURCE_IMAGE_ID "NAPP 6916 140" *
SOURCE_IMAGE_DATE 1994 05 02 *
SOURCE_DEM_DATE 1982 00 00 *
AGENCY "WESTERN MAPPING CENTER (WMC)" *
PRODUCER "ANALYTICAL SURVEYS INC." *
PRODUCTION_SYSTEM "ORBIT OR_RECTIFY V.5.2" *
STANDARD_VERSION 1996 12 *
METADATA_DATE 1998 12 04 *
DATA_FILE_SIZE 50661270 *
BYTE_COUNT 6570 * * * * * * * * * * * * * * * * * * * * * * * * * * * * * * * * * * * * * * * *
END_USGS_HEADER *
