BEGIN_USGS_DOQ_HEADER *
QUADRANGLE_NAME "EMIGRANT HILL" *
QUADRANT NW *
NORTH_LATITUDE 35 45 00.000 *
WEST_LONGITUDE -120 00 00.000 *
SOUTH_LATITUDE 35 41 15.000 *
EAST_LONGITUDE -119 56 15.000 *
PRODUCTION_DATE 1998 11 30 *
RASTER_ORDER LEFT_RIGHT/TOP_BOTTOM *
BAND_ORGANIZATION "SINGLE FILE" *
BAND_CONTENT BLACK&WHITE *
BITS_PER_PIXEL 8 *
SAMPLES_AND_LINES 6570 7740 *
HORIZONTAL_DATUM NAD83 *
HORIZONTAL_COORDINATE_SYSTEM UTM *
COORDINATE_ZONE 11 *
HORIZONTAL_UNITS METERS *
HORIZONTAL_RESOLUTION 1.000 *
SECONDARY_HORIZONTAL_DATUM NAD27 *
XY_ORIGIN 228120.000 3960690.000 *
SECONDARY_XY_ORIGIN 228201.558 3960491.878 *
NATION US *
STATE CA *
NW_QUAD_CORNER_XY 228726.672 3960371.889 *
NE_QUAD_CORNER_XY 234379.800 3960200.599 *
SE_QUAD_CORNER_XY 234172.050 3953265.838 *
SW_QUAD_CORNER_XY 228514.490 3953437.002 *
SECONDARY_NW_QUAD_XY 228720.269 3960172.221 *
SECONDARY_NE_QUAD_XY 234373.531 3960000.927 *
SECONDARY_SE_QUAD_XY 234165.786 3953066.345 *
SECONDARY_SW_QUAD_XY 228508.093 3953237.513 *
RMSE_XY 1.440 *
IMAGE_SOURCE "BLACK AND WHITE FILM" *
SOURCE_IMAGE_ID "NAPP 6915 264" *
SOURCE_IMAGE_DATE 1994 04 21 *
SOURCE_DEM_DATE 1973 00 00 *
AGENCY "WESTERN MAPPING CENTER (WMC)" *
PRODUCER "ANALYTICAL SURVEYS INC." *
PRODUCTION_SYSTEM "ORBIT OR_RECTIFY V.5.2" *
STANDARD_VERSION 1996 12 *
METADATA_DATE 1998 12 04 *
DATA_FILE_SIZE 50858370 *
BYTE_COUNT 6570 * * * * * * * * * * * * * * * * * * * * * * * * * * * * * * * * * * * * * * * *
END_USGS_HEADER *
