BEGIN_USGS_DOQ_HEADER *
QUADRANGLE_NAME "EMIGRANT HILL" *
QUADRANT SE *
NORTH_LATITUDE 35 41 15.000 *
WEST_LONGITUDE -119 56 15.000 *
SOUTH_LATITUDE 35 37 30.000 *
EAST_LONGITUDE -119 52 30.000 *
PRODUCTION_DATE 1998 12 01 *
RASTER_ORDER LEFT_RIGHT/TOP_BOTTOM *
BAND_ORGANIZATION "SINGLE FILE" *
BAND_CONTENT BLACK&WHITE *
BITS_PER_PIXEL 8 *
SAMPLES_AND_LINES 6600 7740 *
HORIZONTAL_DATUM NAD83 *
HORIZONTAL_COORDINATE_SYSTEM UTM *
COORDINATE_ZONE 11 *
HORIZONTAL_UNITS METERS *
HORIZONTAL_RESOLUTION 1.000 *
SECONDARY_HORIZONTAL_DATUM NAD27 *
XY_ORIGIN 233550.000 3953580.000 *
SECONDARY_XY_ORIGIN 233631.636 3953382.069 *
NATION US *
STATE CA *
NW_QUAD_CORNER_XY 234172.050 3953265.838 *
NE_QUAD_CORNER_XY 239829.508 3953098.287 *
SE_QUAD_CORNER_XY 239626.500 3946163.702 *
SW_QUAD_CORNER_XY 233964.617 3946331.129 *
SECONDARY_NW_QUAD_XY 234165.786 3953066.345 *
SECONDARY_NE_QUAD_XY 239823.378 3952898.790 *
SECONDARY_SE_QUAD_XY 239620.375 3945964.385 *
SECONDARY_SW_QUAD_XY 233958.359 3946131.816 *
RMSE_XY 1.130 *
IMAGE_SOURCE "BLACK AND WHITE FILM" *
SOURCE_IMAGE_ID "NAPP 6916 128" *
SOURCE_IMAGE_DATE 1994 05 02 *
SOURCE_DEM_DATE 1973 00 00 *
AGENCY "WESTERN MAPPING CENTER (WMC)" *
PRODUCER "ANALYTICAL SURVEYS INC." *
PRODUCTION_SYSTEM "ORBIT OR_RECTIFY V.5.2" *
STANDARD_VERSION 1996 12 *
METADATA_DATE 1998 12 04 *
DATA_FILE_SIZE 51090600 *
BYTE_COUNT 6600 * * * * * * * * * * * * * * * * * * * * * * * * * * * * * * * * * * * * * * * *
END_USGS_HEADER *
