BEGIN_USGS_DOQ_HEADER *
QUADRANGLE_NAME "RICHGROVE" *
QUADRANT NE *
NORTH_LATITUDE 35 52 30.000 *
WEST_LONGITUDE -119 03 45.000 *
SOUTH_LATITUDE 35 48 45.000 *
EAST_LONGITUDE -119 00 00.000 *
PRODUCTION_DATE 1998 11 30 *
RASTER_ORDER LEFT_RIGHT/TOP_BOTTOM *
BAND_ORGANIZATION "SINGLE FILE" *
BAND_CONTENT BLACK&WHITE *
BITS_PER_PIXEL 8 *
SAMPLES_AND_LINES 6510 7680 *
HORIZONTAL_DATUM NAD83 *
HORIZONTAL_COORDINATE_SYSTEM UTM *
COORDINATE_ZONE 11 *
HORIZONTAL_UNITS METERS *
HORIZONTAL_RESOLUTION 1.000 *
SECONDARY_HORIZONTAL_DATUM NAD27 *
XY_ORIGIN 313260.000 3972360.000 *
SECONDARY_XY_ORIGIN 313340.189 3972163.341 *
NATION US *
STATE CA *
NW_QUAD_CORNER_XY 313806.167 3972048.661 *
NE_QUAD_CORNER_XY 319449.139 3971931.375 *
SE_QUAD_CORNER_XY 319307.360 3964998.054 *
SW_QUAD_CORNER_XY 313659.952 3965115.254 *
SECONDARY_NW_QUAD_XY 313801.759 3971848.585 *
SECONDARY_NE_QUAD_XY 319444.865 3971731.297 *
SECONDARY_SE_QUAD_XY 319303.090 3964798.153 *
SECONDARY_SW_QUAD_XY 313655.548 3964915.356 *
RMSE_XY 1.927 *
IMAGE_SOURCE "BLACK AND WHITE FILM" *
SOURCE_IMAGE_ID "NAPP 6921 267" *
SOURCE_IMAGE_DATE 1994 09 03 *
SOURCE_DEM_DATE 1992 00 00 *
AGENCY "WESTERN MAPPING CENTER (WMC)" *
PRODUCER "ANALYTICAL SURVEYS INC." *
PRODUCTION_SYSTEM "ORBIT OR_RECTIFY V.5.2" *
STANDARD_VERSION 1996 12 *
METADATA_DATE 1998 12 01 *
DATA_FILE_SIZE 50003310 *
BYTE_COUNT 6510 * * * * * * * * * * * * * * * * * * * * * * * * * * * * * * * * * * * * * * *
END_USGS_HEADER *
