BEGIN_USGS_DOQ_HEADER *
QUADRANGLE_NAME "RICHGROVE" *
QUADRANT NW *
NORTH_LATITUDE 35 52 30.000 *
WEST_LONGITUDE -119 07 30.000 *
SOUTH_LATITUDE 35 48 45.000 *
EAST_LONGITUDE -119 03 45.000 *
PRODUCTION_DATE 1998 11 30 *
RASTER_ORDER LEFT_RIGHT/TOP_BOTTOM *
BAND_ORGANIZATION "SINGLE FILE" *
BAND_CONTENT BLACK&WHITE *
BITS_PER_PIXEL 8 *
SAMPLES_AND_LINES 6510 7680 *
HORIZONTAL_DATUM NAD83 *
HORIZONTAL_COORDINATE_SYSTEM UTM *
COORDINATE_ZONE 11 *
HORIZONTAL_UNITS METERS *
HORIZONTAL_RESOLUTION 1.000 *
SECONDARY_HORIZONTAL_DATUM NAD27 *
XY_ORIGIN 307620.000 3972480.000 *
SECONDARY_XY_ORIGIN 307700.279 3972283.253 *
NATION US *
STATE CA *
NW_QUAD_CORNER_XY 308163.124 3972169.559 *
NE_QUAD_CORNER_XY 313806.167 3972048.661 *
SE_QUAD_CORNER_XY 313659.952 3965115.254 *
SW_QUAD_CORNER_XY 308012.473 3965236.066 *
SECONDARY_NW_QUAD_XY 308158.583 3971969.487 *
SECONDARY_NE_QUAD_XY 313801.759 3971848.585 *
SECONDARY_SE_QUAD_XY 313655.548 3964915.356 *
SECONDARY_SW_QUAD_XY 308007.935 3965036.171 *
RMSE_XY 0.994 *
IMAGE_SOURCE "BLACK AND WHITE FILM" *
SOURCE_IMAGE_ID "NAPP 6927 123" *
SOURCE_IMAGE_DATE 1994 09 04 *
SOURCE_DEM_DATE 1992 00 00 *
AGENCY "WESTERN MAPPING CENTER (WMC)" *
PRODUCER "ANALYTICAL SURVEYS INC." *
PRODUCTION_SYSTEM "ORBIT OR_RECTIFY V.5.2" *
STANDARD_VERSION 1996 12 *
METADATA_DATE 1998 12 01 *
DATA_FILE_SIZE 50003310 *
BYTE_COUNT 6510 * * * * * * * * * * * * * * * * * * * * * * * * * * * * * * * * * * * * * * *
END_USGS_HEADER *
