BEGIN_USGS_DOQ_HEADER *
QUADRANGLE_NAME "DELANO EAST" *
QUADRANT SE *
NORTH_LATITUDE 35 48 45.000 *
WEST_LONGITUDE -119 11 15.000 *
SOUTH_LATITUDE 35 45 00.000 *
EAST_LONGITUDE -119 07 30.000 *
PRODUCTION_DATE 1998 11 30 *
RASTER_ORDER LEFT_RIGHT/TOP_BOTTOM *
BAND_ORGANIZATION "SINGLE FILE" *
BAND_CONTENT BLACK&WHITE *
BITS_PER_PIXEL 8 *
SAMPLES_AND_LINES 6540 7680 *
HORIZONTAL_DATUM NAD83 *
HORIZONTAL_COORDINATE_SYSTEM UTM *
COORDINATE_ZONE 11 *
HORIZONTAL_UNITS METERS *
HORIZONTAL_RESOLUTION 1.000 *
SECONDARY_HORIZONTAL_DATUM NAD27 *
XY_ORIGIN 301800.000 3965670.000 *
SECONDARY_XY_ORIGIN 301880.418 3965473.357 *
NATION US *
STATE CA *
NW_QUAD_CORNER_XY 302364.921 3965360.488 *
NE_QUAD_CORNER_XY 308012.473 3965236.066 *
SE_QUAD_CORNER_XY 307862.050 3958302.634 *
SW_QUAD_CORNER_XY 302210.068 3958426.966 *
SECONDARY_NW_QUAD_XY 302360.250 3965160.596 *
SECONDARY_NE_QUAD_XY 308007.935 3965036.171 *
SECONDARY_SE_QUAD_XY 307857.517 3958102.918 *
SECONDARY_SW_QUAD_XY 302205.401 3958227.252 *
RMSE_XY 1.155 *
IMAGE_SOURCE "BLACK AND WHITE FILM" *
SOURCE_IMAGE_ID "NAPP 6927 73" *
SOURCE_IMAGE_DATE 1994 09 04 *
SOURCE_DEM_DATE 1992 00 00 *
AGENCY "WESTERN MAPPING CENTER (WMC)" *
PRODUCER "ANALYTICAL SURVEYS INC." *
PRODUCTION_SYSTEM "ORBIT OR_RECTIFY V.5.2" *
STANDARD_VERSION 1996 12 *
METADATA_DATE 1998 12 01 *
DATA_FILE_SIZE 50233740 *
BYTE_COUNT 6540 * * * * * * * * * * * * * * * * * * * * * * * * * * * * * * * * * * * * * * *
END_USGS_HEADER *
