BEGIN_USGS_DOQ_HEADER *
QUADRANGLE_NAME "DELANO WEST" *
QUADRANT NE *
NORTH_LATITUDE 35 52 30.000 *
WEST_LONGITUDE -119 18 45.000 *
SOUTH_LATITUDE 35 48 45.000 *
EAST_LONGITUDE -119 15 00.000 *
PRODUCTION_DATE 1998 11 24 *
RASTER_ORDER LEFT_RIGHT/TOP_BOTTOM *
BAND_ORGANIZATION "SINGLE FILE" *
BAND_CONTENT BLACK&WHITE *
BITS_PER_PIXEL 8 *
SAMPLES_AND_LINES 6510 7710 *
HORIZONTAL_DATUM NAD83 *
HORIZONTAL_COORDINATE_SYSTEM UTM *
COORDINATE_ZONE 11 *
HORIZONTAL_UNITS METERS *
HORIZONTAL_RESOLUTION 1.000 *
SECONDARY_HORIZONTAL_DATUM NAD27 *
XY_ORIGIN 290670.000 3972870.000 *
SECONDARY_XY_ORIGIN 290750.571 3972673.011 *
NATION US *
STATE CA *
NW_QUAD_CORNER_XY 291233.556 3972553.941 *
NE_QUAD_CORNER_XY 296876.821 3972422.199 *
SE_QUAD_CORNER_XY 296717.295 3965488.523 *
SW_QUAD_CORNER_XY 291069.592 3965620.169 *
SECONDARY_NW_QUAD_XY 291228.614 3972353.878 *
SECONDARY_NE_QUAD_XY 296872.013 3972222.133 *
SECONDARY_SE_QUAD_XY 296712.490 3965288.634 *
SECONDARY_SW_QUAD_XY 291064.654 3965420.283 *
RMSE_XY 0.529 *
IMAGE_SOURCE "BLACK AND WHITE FILM" *
SOURCE_IMAGE_ID "NAPP 6925 269" *
SOURCE_IMAGE_DATE 1994 06 01 *
SOURCE_DEM_DATE 1969 00 00 *
AGENCY "WESTERN MAPPING CENTER (WMC)" *
PRODUCER "ANALYTICAL SURVEYS INC." *
PRODUCTION_SYSTEM "ORBIT OR_RECTIFY V.5.2" *
STANDARD_VERSION 1996 12 *
METADATA_DATE 1998 11 30 *
DATA_FILE_SIZE 50198610 *
BYTE_COUNT 6510 * * * * * * * * * * * * * * * * * * * * * * * * * * * * * * * * * * * * * * *
END_USGS_HEADER *
