BEGIN_USGS_DOQ_HEADER *
QUADRANGLE_NAME "DELANO WEST" *
QUADRANT SW *
NORTH_LATITUDE 35 48 45.000 *
WEST_LONGITUDE -119 22 30.000 *
SOUTH_LATITUDE 35 45 00.000 *
EAST_LONGITUDE -119 18 45.000 *
PRODUCTION_DATE 1998 11 24 *
RASTER_ORDER LEFT_RIGHT/TOP_BOTTOM *
BAND_ORGANIZATION "SINGLE FILE" *
BAND_CONTENT BLACK&WHITE *
BITS_PER_PIXEL 8 *
SAMPLES_AND_LINES 6540 7680 *
HORIZONTAL_DATUM NAD83 *
HORIZONTAL_COORDINATE_SYSTEM UTM *
COORDINATE_ZONE 11 *
HORIZONTAL_UNITS METERS *
HORIZONTAL_RESOLUTION 1.000 *
SECONDARY_HORIZONTAL_DATUM NAD27 *
XY_ORIGIN 284850.000 3966060.000 *
SECONDARY_XY_ORIGIN 284930.718 3965863.087 *
NATION US *
STATE CA *
NW_QUAD_CORNER_XY 285421.810 3965755.429 *
NE_QUAD_CORNER_XY 291069.592 3965620.169 *
SE_QUAD_CORNER_XY 290905.876 3958686.458 *
SW_QUAD_CORNER_XY 285253.662 3958821.619 *
SECONDARY_NW_QUAD_XY 285416.738 3965555.546 *
SECONDARY_NE_QUAD_XY 291064.654 3965420.283 *
SECONDARY_SE_QUAD_XY 290900.942 3958486.750 *
SECONDARY_SW_QUAD_XY 285248.594 3958621.914 *
RMSE_XY 0.702 *
IMAGE_SOURCE "BLACK AND WHITE FILM" *
SOURCE_IMAGE_ID "NAPP 6925 26" *
SOURCE_IMAGE_DATE 1994 06 01 *
SOURCE_DEM_DATE 1969 00 00 *
AGENCY "WESTERN MAPPING CENTER (WMC)" *
PRODUCER "ANALYTICAL SURVEYS INC." *
PRODUCTION_SYSTEM "ORBIT OR_RECTIFY V.5.2" *
STANDARD_VERSION 1996 12 *
METADATA_DATE 1998 11 30 *
DATA_FILE_SIZE 50233740 *
BYTE_COUNT 6540 * * * * * * * * * * * * * * * * * * * * * * * * * * * * * * * * * * * * * * *
END_USGS_HEADER *
