BEGIN_USGS_DOQ_HEADER *
QUADRANGLE_NAME "ALLENSWORTH" *
QUADRANT SW *
NORTH_LATITUDE 35 48 45.000 *
WEST_LONGITUDE -119 30 00.000 *
SOUTH_LATITUDE 35 45 00.000 *
EAST_LONGITUDE -119 26 15.000 *
PRODUCTION_DATE 1998 11 24 *
RASTER_ORDER LEFT_RIGHT/TOP_BOTTOM *
BAND_ORGANIZATION "SINGLE FILE" *
BAND_CONTENT BLACK&WHITE *
BITS_PER_PIXEL 8 *
SAMPLES_AND_LINES 6540 7710 *
HORIZONTAL_DATUM NAD83 *
HORIZONTAL_COORDINATE_SYSTEM UTM *
COORDINATE_ZONE 11 *
HORIZONTAL_UNITS METERS *
HORIZONTAL_RESOLUTION 1.000 *
SECONDARY_HORIZONTAL_DATUM NAD27 *
XY_ORIGIN 273540.000 3966360.000 *
SECONDARY_XY_ORIGIN 273620.928 3966162.912 *
NATION US *
STATE CA *
NW_QUAD_CORNER_XY 274126.000 3966036.787 *
NE_QUAD_CORNER_XY 279773.946 3965894.301 *
SE_QUAD_CORNER_XY 279601.366 3958960.390 *
SW_QUAD_CORNER_XY 273948.986 3959102.772 *
SECONDARY_NW_QUAD_XY 274120.661 3965836.911 *
SECONDARY_NE_QUAD_XY 279768.741 3965694.421 *
SECONDARY_SE_QUAD_XY 279596.165 3958760.689 *
SECONDARY_SW_QUAD_XY 273943.651 3958903.074 *
RMSE_XY 0.969 *
IMAGE_SOURCE "BLACK AND WHITE FILM" *
SOURCE_IMAGE_ID "NAPP 6918 161" *
SOURCE_IMAGE_DATE 1994 05 10 *
SOURCE_DEM_DATE 1969 00 00 *
AGENCY "WESTERN MAPPING CENTER (WMC)" *
PRODUCER "ANALYTICAL SURVEYS INC." *
PRODUCTION_SYSTEM "ORBIT OR_RECTIFY V.5.2" *
STANDARD_VERSION 1996 12 *
METADATA_DATE 1998 11 30 *
DATA_FILE_SIZE 50429940 *
BYTE_COUNT 6540 * * * * * * * * * * * * * * * * * * * * * * * * * * * * * * * * * * * * * * *
END_USGS_HEADER *
