BEGIN_USGS_DOQ_HEADER *
QUADRANGLE_NAME "HACIENDA RANCH" *
QUADRANT NE *
NORTH_LATITUDE 35 52 30.000 *
WEST_LONGITUDE -119 33 45.000 *
SOUTH_LATITUDE 35 48 45.000 *
EAST_LONGITUDE -119 30 00.000 *
PRODUCTION_DATE 1998 11 24 *
RASTER_ORDER LEFT_RIGHT/TOP_BOTTOM *
BAND_ORGANIZATION "SINGLE FILE" *
BAND_CONTENT BLACK&WHITE *
BITS_PER_PIXEL 8 *
SAMPLES_AND_LINES 6540 7710 *
HORIZONTAL_DATUM NAD83 *
HORIZONTAL_COORDINATE_SYSTEM UTM *
COORDINATE_ZONE 11 *
HORIZONTAL_UNITS METERS *
HORIZONTAL_RESOLUTION 1.000 *
SECONDARY_HORIZONTAL_DATUM NAD27 *
XY_ORIGIN 268080.000 3973440.000 *
SECONDARY_XY_ORIGIN 268160.965 3973242.728 *
NATION US *
STATE CA *
NW_QUAD_CORNER_XY 268659.692 3973117.066 *
NE_QUAD_CORNER_XY 274303.283 3972970.860 *
SE_QUAD_CORNER_XY 274126.000 3966036.787 *
SW_QUAD_CORNER_XY 268477.968 3966182.887 *
SECONDARY_NW_QUAD_XY 268654.215 3972917.016 *
SECONDARY_NE_QUAD_XY 274297.940 3972770.807 *
SECONDARY_SE_QUAD_XY 274120.661 3965836.911 *
SECONDARY_SW_QUAD_XY 268472.496 3965983.014 *
RMSE_XY 0.843 *
IMAGE_SOURCE "BLACK AND WHITE FILM" *
SOURCE_IMAGE_ID "NAPP 6918 116" *
SOURCE_IMAGE_DATE 1994 05 10 *
SOURCE_DEM_DATE 1954 00 00 *
AGENCY "WESTERN MAPPING CENTER (WMC)" *
PRODUCER "ANALYTICAL SURVEYS INC." *
PRODUCTION_SYSTEM "ORBIT OR_RECTIFY V.5.2" *
STANDARD_VERSION 1996 12 *
METADATA_DATE 1998 11 30 *
DATA_FILE_SIZE 50429940 *
BYTE_COUNT 6540 * * * * * * * * * * * * * * * * * * * * * * * * * * * * * * * * * * * * * * *
END_USGS_HEADER *
