BEGIN_USGS_DOQ_HEADER *
QUADRANGLE_NAME "HACIENDA RANCH" *
QUADRANT SW *
NORTH_LATITUDE 35 48 45.000 *
WEST_LONGITUDE -119 37 30.000 *
SOUTH_LATITUDE 35 45 00.000 *
EAST_LONGITUDE -119 33 45.000 *
PRODUCTION_DATE 1998 11 24 *
RASTER_ORDER LEFT_RIGHT/TOP_BOTTOM *
BAND_ORGANIZATION "SINGLE FILE" *
BAND_CONTENT BLACK&WHITE *
BITS_PER_PIXEL 8 *
SAMPLES_AND_LINES 6570 7740 *
HORIZONTAL_DATUM NAD83 *
HORIZONTAL_COORDINATE_SYSTEM UTM *
COORDINATE_ZONE 11 *
HORIZONTAL_UNITS METERS *
HORIZONTAL_RESOLUTION 1.000 *
SECONDARY_HORIZONTAL_DATUM NAD27 *
XY_ORIGIN 262230.000 3966660.000 *
SECONDARY_XY_ORIGIN 262311.058 3966462.659 *
NATION US *
STATE CA *
NW_QUAD_CORNER_XY 262829.849 3966332.602 *
NE_QUAD_CORNER_XY 268477.968 3966182.887 *
SE_QUAD_CORNER_XY 268296.520 3959248.766 *
SW_QUAD_CORNER_XY 262643.966 3959398.371 *
SECONDARY_NW_QUAD_XY 262824.243 3966132.733 *
SECONDARY_NE_QUAD_XY 268472.496 3965983.014 *
SECONDARY_SE_QUAD_XY 268291.052 3959049.071 *
SECONDARY_SW_QUAD_XY 262638.365 3959198.680 *
RMSE_XY 0.545 *
IMAGE_SOURCE "BLACK AND WHITE FILM" *
SOURCE_IMAGE_ID "NAPP 6918 73" *
SOURCE_IMAGE_DATE 1994 05 10 *
SOURCE_DEM_DATE 1954 00 00 *
AGENCY "WESTERN MAPPING CENTER (WMC)" *
PRODUCER "ANALYTICAL SURVEYS INC." *
PRODUCTION_SYSTEM "ORBIT OR_RECTIFY V.5.2" *
STANDARD_VERSION 1996 12 *
METADATA_DATE 1998 11 30 *
DATA_FILE_SIZE 50858370 *
BYTE_COUNT 6570 * * * * * * * * * * * * * * * * * * * * * * * * * * * * * * * * * * * * * * * *
END_USGS_HEADER *
