BEGIN_USGS_DOQ_HEADER *
QUADRANGLE_NAME "LONE TREE WELL" *
QUADRANT SW *
NORTH_LATITUDE 35 48 45.000 *
WEST_LONGITUDE -119 45 00.000 *
SOUTH_LATITUDE 35 45 00.000 *
EAST_LONGITUDE -119 41 15.000 *
PRODUCTION_DATE 1998 11 24 *
RASTER_ORDER LEFT_RIGHT/TOP_BOTTOM *
BAND_ORGANIZATION "SINGLE FILE" *
BAND_CONTENT BLACK&WHITE *
BITS_PER_PIXEL 8 *
SAMPLES_AND_LINES 6540 7740 *
HORIZONTAL_DATUM NAD83 *
HORIZONTAL_COORDINATE_SYSTEM UTM *
COORDINATE_ZONE 11 *
HORIZONTAL_UNITS METERS *
HORIZONTAL_RESOLUTION 1.000 *
SECONDARY_HORIZONTAL_DATUM NAD27 *
XY_ORIGIN 250950.000 3966960.000 *
SECONDARY_XY_ORIGIN 251031.185 3966762.407 *
NATION US *
STATE CA *
NW_QUAD_CORNER_XY 251533.339 3966642.877 *
NE_QUAD_CORNER_XY 257181.640 3966485.932 *
SE_QUAD_CORNER_XY 256991.322 3959551.590 *
SW_QUAD_CORNER_XY 251338.585 3959708.421 *
SECONDARY_NW_QUAD_XY 251527.466 3966443.016 *
SECONDARY_NE_QUAD_XY 257175.900 3966286.066 *
SECONDARY_SE_QUAD_XY 256985.587 3959351.902 *
SECONDARY_SW_QUAD_XY 251332.717 3959508.737 *
RMSE_XY 0.922 *
IMAGE_SOURCE "BLACK AND WHITE FILM" *
SOURCE_IMAGE_ID "NAPP 6916 220" *
SOURCE_IMAGE_DATE 1994 05 02 *
SOURCE_DEM_DATE 1954 00 00 *
AGENCY "WESTERN MAPPING CENTER (WMC)" *
PRODUCER "ANALYTICAL SURVEYS INC." *
PRODUCTION_SYSTEM "ORBIT OR_RECTIFY V.5.2" *
STANDARD_VERSION 1996 12 *
METADATA_DATE 1998 12 02 *
DATA_FILE_SIZE 50626140 *
BYTE_COUNT 6540 * * * * * * * * * * * * * * * * * * * * * * * * * * * * * * * * * * * * * * *
END_USGS_HEADER *
