BEGIN_USGS_DOQ_HEADER *
QUADRANGLE_NAME "WEST CAMP" *
QUADRANT NW *
NORTH_LATITUDE 35 52 30.000 *
WEST_LONGITUDE -119 52 30.000 *
SOUTH_LATITUDE 35 48 45.000 *
EAST_LONGITUDE -119 48 45.000 *
PRODUCTION_DATE 1998 11 24 *
RASTER_ORDER LEFT_RIGHT/TOP_BOTTOM *
BAND_ORGANIZATION "SINGLE FILE" *
BAND_CONTENT BLACK&WHITE *
BITS_PER_PIXEL 8 *
SAMPLES_AND_LINES 6570 7740 *
HORIZONTAL_DATUM NAD83 *
HORIZONTAL_COORDINATE_SYSTEM UTM *
COORDINATE_ZONE 11 *
HORIZONTAL_UNITS METERS *
HORIZONTAL_RESOLUTION 1.000 *
SECONDARY_HORIZONTAL_DATUM NAD27 *
XY_ORIGIN 239820.000 3974220.000 *
SECONDARY_XY_ORIGIN 239901.184 3974022.206 *
NATION US *
STATE CA *
NW_QUAD_CORNER_XY 240440.392 3973902.365 *
NE_QUAD_CORNER_XY 246084.438 3973738.067 *
SE_QUAD_CORNER_XY 245884.945 3966803.439 *
SW_QUAD_CORNER_XY 240236.454 3966967.618 *
SECONDARY_NW_QUAD_XY 240434.246 3973702.334 *
SECONDARY_NE_QUAD_XY 246078.426 3973538.032 *
SECONDARY_SE_QUAD_XY 245878.938 3966603.581 *
SECONDARY_SW_QUAD_XY 240230.314 3966767.764 *
RMSE_XY 0.471 *
IMAGE_SOURCE "BLACK AND WHITE FILM" *
SOURCE_IMAGE_ID "NAPP 6919 75" *
SOURCE_IMAGE_DATE 1994 05 11 *
SOURCE_DEM_DATE 1973 00 00 *
AGENCY "WESTERN MAPPING CENTER (WMC)" *
PRODUCER "ANALYTICAL SURVEYS INC." *
PRODUCTION_SYSTEM "ORBIT OR_RECTIFY V.5.2" *
STANDARD_VERSION 1996 12 *
METADATA_DATE 1998 12 02 *
DATA_FILE_SIZE 50858370 *
BYTE_COUNT 6570 * * * * * * * * * * * * * * * * * * * * * * * * * * * * * * * * * * * * * * * *
END_USGS_HEADER *
