BEGIN_USGS_DOQ_HEADER *
QUADRANGLE_NAME "WEST CAMP" *
QUADRANT SE *
NORTH_LATITUDE 35 48 45.000 *
WEST_LONGITUDE -119 48 45.000 *
SOUTH_LATITUDE 35 45 00.000 *
EAST_LONGITUDE -119 45 00.000 *
PRODUCTION_DATE 1998 11 24 *
RASTER_ORDER LEFT_RIGHT/TOP_BOTTOM *
BAND_ORGANIZATION "SINGLE FILE" *
BAND_CONTENT BLACK&WHITE *
BITS_PER_PIXEL 8 *
SAMPLES_AND_LINES 6570 7710 *
HORIZONTAL_DATUM NAD83 *
HORIZONTAL_COORDINATE_SYSTEM UTM *
COORDINATE_ZONE 11 *
HORIZONTAL_UNITS METERS *
HORIZONTAL_RESOLUTION 1.000 *
SECONDARY_HORIZONTAL_DATUM NAD27 *
XY_ORIGIN 245280.000 3967110.000 *
SECONDARY_XY_ORIGIN 245361.242 3966912.292 *
NATION US *
STATE CA *
NW_QUAD_CORNER_XY 245884.945 3966803.439 *
NE_QUAD_CORNER_XY 251533.339 3966642.877 *
SE_QUAD_CORNER_XY 251338.585 3959708.421 *
SW_QUAD_CORNER_XY 245685.754 3959868.866 *
SECONDARY_NW_QUAD_XY 245878.938 3966603.581 *
SECONDARY_NE_QUAD_XY 251527.466 3966443.016 *
SECONDARY_SE_QUAD_XY 251332.717 3959508.737 *
SECONDARY_SW_QUAD_XY 245679.752 3959669.186 *
RMSE_XY 0.650 *
IMAGE_SOURCE "BLACK AND WHITE FILM" *
SOURCE_IMAGE_ID "NAPP 6916 193" *
SOURCE_IMAGE_DATE 1994 05 02 *
SOURCE_DEM_DATE 1973 00 00 *
AGENCY "WESTERN MAPPING CENTER (WMC)" *
PRODUCER "ANALYTICAL SURVEYS INC." *
PRODUCTION_SYSTEM "ORBIT OR_RECTIFY V.5.2" *
STANDARD_VERSION 1996 12 *
METADATA_DATE 1998 12 02 *
DATA_FILE_SIZE 50661270 *
BYTE_COUNT 6570 * * * * * * * * * * * * * * * * * * * * * * * * * * * * * * * * * * * * * * * *
END_USGS_HEADER *
