BEGIN_USGS_DOQ_HEADER *
QUADRANGLE_NAME "DUCOR" *
QUADRANT NW *
NORTH_LATITUDE 36 00 00.000 *
WEST_LONGITUDE -119 07 30.000 *
SOUTH_LATITUDE 35 56 15.000 *
EAST_LONGITUDE -119 03 45.000 *
PRODUCTION_DATE 1998 11 25 *
RASTER_ORDER LEFT_RIGHT/TOP_BOTTOM *
BAND_ORGANIZATION "SINGLE FILE" *
BAND_CONTENT BLACK&WHITE *
BITS_PER_PIXEL 8 *
SAMPLES_AND_LINES 6480 7680 *
HORIZONTAL_DATUM NAD83 *
HORIZONTAL_COORDINATE_SYSTEM UTM *
COORDINATE_ZONE 11 *
HORIZONTAL_UNITS METERS *
HORIZONTAL_RESOLUTION 1.000 *
SECONDARY_HORIZONTAL_DATUM NAD27 *
XY_ORIGIN 307920.000 3986340.000 *
SECONDARY_XY_ORIGIN 308000.189 3986142.874 *
NATION US *
STATE CA *
NW_QUAD_CORNER_XY 308465.113 3986036.734 *
NE_QUAD_CORNER_XY 314099.262 3985915.662 *
SE_QUAD_CORNER_XY 313952.603 3978982.130 *
SW_QUAD_CORNER_XY 308314.004 3979103.115 *
SECONDARY_NW_QUAD_XY 308460.564 3985836.309 *
SECONDARY_NE_QUAD_XY 314094.847 3985715.234 *
SECONDARY_SE_QUAD_XY 313948.192 3978781.878 *
SECONDARY_SW_QUAD_XY 308309.459 3978902.866 *
RMSE_XY 0.512 *
IMAGE_SOURCE "BLACK AND WHITE FILM" *
SOURCE_IMAGE_ID "NAPP 6927 119" *
SOURCE_IMAGE_DATE 1994 09 04 *
SOURCE_DEM_DATE 1992 00 00 *
AGENCY "WESTERN MAPPING CENTER (WMC)" *
PRODUCER "ANALYTICAL SURVEYS INC." *
PRODUCTION_SYSTEM "ORBIT OR_RECTIFY V.5.2" *
STANDARD_VERSION 1996 12 *
METADATA_DATE 1998 12 01 *
DATA_FILE_SIZE 49772880 *
BYTE_COUNT 6480 * * * * * * * * * * * * * * * * * * * * * * * * * * * * * * * * * * * * * *
END_USGS_HEADER *
