BEGIN_USGS_DOQ_HEADER *
QUADRANGLE_NAME "SAUSALITO SCHOOL" *
QUADRANT NE *
NORTH_LATITUDE 36 00 00.000 *
WEST_LONGITUDE -119 11 15.000 *
SOUTH_LATITUDE 35 56 15.000 *
EAST_LONGITUDE -119 07 30.000 *
PRODUCTION_DATE 1998 11 30 *
RASTER_ORDER LEFT_RIGHT/TOP_BOTTOM *
BAND_ORGANIZATION "SINGLE FILE" *
BAND_CONTENT BLACK&WHITE *
BITS_PER_PIXEL 8 *
SAMPLES_AND_LINES 6510 7710 *
HORIZONTAL_DATUM NAD83 *
HORIZONTAL_COORDINATE_SYSTEM UTM *
COORDINATE_ZONE 11 *
HORIZONTAL_UNITS METERS *
HORIZONTAL_RESOLUTION 1.000 *
SECONDARY_HORIZONTAL_DATUM NAD27 *
XY_ORIGIN 302280.000 3986490.000 *
SECONDARY_XY_ORIGIN 302360.272 3986292.784 *
NATION US *
STATE CA *
NW_QUAD_CORNER_XY 302830.893 3986161.425 *
NE_QUAD_CORNER_XY 308465.113 3986036.734 *
SE_QUAD_CORNER_XY 308314.004 3979103.115 *
SW_QUAD_CORNER_XY 302675.334 3979227.718 *
SECONDARY_NW_QUAD_XY 302826.211 3985961.003 *
SECONDARY_NE_QUAD_XY 308460.564 3985836.309 *
SECONDARY_SE_QUAD_XY 308309.459 3978902.866 *
SECONDARY_SW_QUAD_XY 302670.655 3979027.472 *
RMSE_XY 0.894 *
IMAGE_SOURCE "BLACK AND WHITE FILM" *
SOURCE_IMAGE_ID "NAPP 6927 79" *
SOURCE_IMAGE_DATE 1994 09 04 *
SOURCE_DEM_DATE 1969 00 00 *
AGENCY "WESTERN MAPPING CENTER (WMC)" *
PRODUCER "ANALYTICAL SURVEYS INC." *
PRODUCTION_SYSTEM "ORBIT OR_RECTIFY V.5.2" *
STANDARD_VERSION 1996 12 *
METADATA_DATE 1998 12 01 *
DATA_FILE_SIZE 50198610 *
BYTE_COUNT 6510 * * * * * * * * * * * * * * * * * * * * * * * * * * * * * * * * * * * * * * *
END_USGS_HEADER *
