BEGIN_USGS_DOQ_HEADER *
QUADRANGLE_NAME "SAUSALITO SCHOOL" *
QUADRANT NW *
NORTH_LATITUDE 36 00 00.000 *
WEST_LONGITUDE -119 15 00.000 *
SOUTH_LATITUDE 35 56 15.000 *
EAST_LONGITUDE -119 11 15.000 *
PRODUCTION_DATE 1998 11 30 *
RASTER_ORDER LEFT_RIGHT/TOP_BOTTOM *
BAND_ORGANIZATION "SINGLE FILE" *
BAND_CONTENT BLACK&WHITE *
BITS_PER_PIXEL 8 *
SAMPLES_AND_LINES 6510 7710 *
HORIZONTAL_DATUM NAD83 *
HORIZONTAL_COORDINATE_SYSTEM UTM *
COORDINATE_ZONE 11 *
HORIZONTAL_UNITS METERS *
HORIZONTAL_RESOLUTION 1.000 *
SECONDARY_HORIZONTAL_DATUM NAD27 *
XY_ORIGIN 296640.000 3986610.000 *
SECONDARY_XY_ORIGIN 296720.355 3986412.694 *
NATION US *
STATE CA *
NW_QUAD_CORNER_XY 297196.601 3986289.736 *
NE_QUAD_CORNER_XY 302830.893 3986161.425 *
SE_QUAD_CORNER_XY 302675.334 3979227.718 *
SW_QUAD_CORNER_XY 297036.590 3979355.937 *
SECONDARY_NW_QUAD_XY 297191.784 3986089.317 *
SECONDARY_NE_QUAD_XY 302826.211 3985961.003 *
SECONDARY_SE_QUAD_XY 302670.655 3979027.472 *
SECONDARY_SW_QUAD_XY 297031.777 3979155.694 *
RMSE_XY 1.034 *
IMAGE_SOURCE "BLACK AND WHITE FILM" *
SOURCE_IMAGE_ID "NAPP 6927 16" *
SOURCE_IMAGE_DATE 1994 09 04 *
SOURCE_DEM_DATE 1969 00 00 *
AGENCY "WESTERN MAPPING CENTER (WMC)" *
PRODUCER "ANALYTICAL SURVEYS INC." *
PRODUCTION_SYSTEM "ORBIT OR_RECTIFY V.5.2" *
STANDARD_VERSION 1996 12 *
METADATA_DATE 1998 12 01 *
DATA_FILE_SIZE 50198610 *
BYTE_COUNT 6510 * * * * * * * * * * * * * * * * * * * * * * * * * * * * * * * * * * * * * * *
END_USGS_HEADER *
