BEGIN_USGS_DOQ_HEADER *
QUADRANGLE_NAME "SAUSALITO SCHOOL" *
QUADRANT SE *
NORTH_LATITUDE 35 56 15.000 *
WEST_LONGITUDE -119 11 15.000 *
SOUTH_LATITUDE 35 52 30.000 *
EAST_LONGITUDE -119 07 30.000 *
PRODUCTION_DATE 1998 11 30 *
RASTER_ORDER LEFT_RIGHT/TOP_BOTTOM *
BAND_ORGANIZATION "SINGLE FILE" *
BAND_CONTENT BLACK&WHITE *
BITS_PER_PIXEL 8 *
SAMPLES_AND_LINES 6510 7680 *
HORIZONTAL_DATUM NAD83 *
HORIZONTAL_COORDINATE_SYSTEM UTM *
COORDINATE_ZONE 11 *
HORIZONTAL_UNITS METERS *
HORIZONTAL_RESOLUTION 1.000 *
SECONDARY_HORIZONTAL_DATUM NAD27 *
XY_ORIGIN 302130.000 3979530.000 *
SECONDARY_XY_ORIGIN 302210.321 3979332.974 *
NATION US *
STATE CA *
NW_QUAD_CORNER_XY 302675.334 3979227.718 *
NE_QUAD_CORNER_XY 308314.004 3979103.115 *
SE_QUAD_CORNER_XY 308163.124 3972169.559 *
SW_QUAD_CORNER_XY 302520.010 3972294.072 *
SECONDARY_NW_QUAD_XY 302670.655 3979027.472 *
SECONDARY_NE_QUAD_XY 308309.459 3978902.866 *
SECONDARY_SE_QUAD_XY 308158.583 3971969.487 *
SECONDARY_SW_QUAD_XY 302515.335 3972094.003 *
RMSE_XY 0.845 *
IMAGE_SOURCE "BLACK AND WHITE FILM" *
SOURCE_IMAGE_ID "NAPP 6927 77" *
SOURCE_IMAGE_DATE 1994 09 04 *
SOURCE_DEM_DATE 1969 00 00 *
AGENCY "WESTERN MAPPING CENTER (WMC)" *
PRODUCER "ANALYTICAL SURVEYS INC." *
PRODUCTION_SYSTEM "ORBIT OR_RECTIFY V.5.2" *
STANDARD_VERSION 1996 12 *
METADATA_DATE 1998 12 01 *
DATA_FILE_SIZE 50003310 *
BYTE_COUNT 6510 * * * * * * * * * * * * * * * * * * * * * * * * * * * * * * * * * * * * * * *
END_USGS_HEADER *
