BEGIN_USGS_DOQ_HEADER *
QUADRANGLE_NAME "PIXLEY" *
QUADRANT SE *
NORTH_LATITUDE 35 56 15.000 *
WEST_LONGITUDE -119 18 45.000 *
SOUTH_LATITUDE 35 52 30.000 *
EAST_LONGITUDE -119 15 00.000 *
PRODUCTION_DATE 1998 11 26 *
RASTER_ORDER LEFT_RIGHT/TOP_BOTTOM *
BAND_ORGANIZATION "SINGLE FILE" *
BAND_CONTENT BLACK&WHITE *
BITS_PER_PIXEL 8 *
SAMPLES_AND_LINES 6540 7710 *
HORIZONTAL_DATUM NAD83 *
HORIZONTAL_COORDINATE_SYSTEM UTM *
COORDINATE_ZONE 11 *
HORIZONTAL_UNITS METERS *
HORIZONTAL_RESOLUTION 1.000 *
SECONDARY_HORIZONTAL_DATUM NAD27 *
XY_ORIGIN 290820.000 3979800.000 *
SECONDARY_XY_ORIGIN 290900.530 3979602.850 *
NATION US *
STATE CA *
NW_QUAD_CORNER_XY 291397.770 3979487.774 *
NE_QUAD_CORNER_XY 297036.590 3979355.937 *
SE_QUAD_CORNER_XY 296876.821 3972422.199 *
SW_QUAD_CORNER_XY 291233.556 3972553.941 *
SECONDARY_NW_QUAD_XY 291392.824 3979287.534 *
SECONDARY_NE_QUAD_XY 297031.777 3979155.694 *
SECONDARY_SE_QUAD_XY 296872.013 3972222.133 *
SECONDARY_SW_QUAD_XY 291228.614 3972353.878 *
RMSE_XY 0.921 *
IMAGE_SOURCE "BLACK AND WHITE FILM" *
SOURCE_IMAGE_ID "NAPP 6925 271" *
SOURCE_IMAGE_DATE 1994 06 01 *
SOURCE_DEM_DATE 1969 01 01 *
AGENCY "WESTERN MAPPING CENTER (WMC)" *
PRODUCER "ANALYTICAL SURVEYS INC." *
PRODUCTION_SYSTEM "ORBIT OR_RECTIFY V.5.2" *
STANDARD_VERSION 1996 12 *
METADATA_DATE 1998 12 01 *
DATA_FILE_SIZE 50429940 *
BYTE_COUNT 6540 * * * * * * * * * * * * * * * * * * * * * * * * * * * * * * * * * * * * * * *
END_USGS_HEADER *
