BEGIN_USGS_DOQ_HEADER *
QUADRANGLE_NAME "ALPAUGH" *
QUADRANT NE *
NORTH_LATITUDE 36 00 00.000 *
WEST_LONGITUDE -119 26 15.000 *
SOUTH_LATITUDE 35 56 15.000 *
EAST_LONGITUDE -119 22 30.000 *
PRODUCTION_DATE 1998 11 26 *
RASTER_ORDER LEFT_RIGHT/TOP_BOTTOM *
BAND_ORGANIZATION "SINGLE FILE" *
BAND_CONTENT BLACK&WHITE *
BITS_PER_PIXEL 8 *
SAMPLES_AND_LINES 6510 7680 *
HORIZONTAL_DATUM NAD83 *
HORIZONTAL_COORDINATE_SYSTEM UTM *
COORDINATE_ZONE 11 *
HORIZONTAL_UNITS METERS *
HORIZONTAL_RESOLUTION 1.000 *
SECONDARY_HORIZONTAL_DATUM NAD27 *
XY_ORIGIN 279720.000 3987000.000 *
SECONDARY_XY_ORIGIN 279800.753 3986802.683 *
NATION US *
STATE CA *
NW_QUAD_CORNER_XY 280293.263 3986696.390 *
NE_QUAD_CORNER_XY 285927.787 3986557.218 *
SE_QUAD_CORNER_XY 285758.873 3979623.228 *
SW_QUAD_CORNER_XY 280119.895 3979762.301 *
SECONDARY_NW_QUAD_XY 280288.044 3986495.980 *
SECONDARY_NE_QUAD_XY 285922.703 3986356.805 *
SECONDARY_SE_QUAD_XY 285753.792 3979422.991 *
SECONDARY_SW_QUAD_XY 280114.681 3979562.067 *
RMSE_XY 0.899 *
IMAGE_SOURCE "BLACK AND WHITE FILM" *
SOURCE_IMAGE_ID "NAPP 6918 210" *
SOURCE_IMAGE_DATE 1994 05 10 *
SOURCE_DEM_DATE 1969 01 01 *
AGENCY "WESTERN MAPPING CENTER (WMC)" *
PRODUCER "ANALYTICAL SURVEYS INC." *
PRODUCTION_SYSTEM "ORBIT OR_RECTIFY V.5.2" *
STANDARD_VERSION 1996 12 *
METADATA_DATE 1998 12 01 *
DATA_FILE_SIZE 50003310 *
BYTE_COUNT 6510 * * * * * * * * * * * * * * * * * * * * * * * * * * * * * * * * * * * * * * *
END_USGS_HEADER *
