BEGIN_USGS_DOQ_HEADER *
QUADRANGLE_NAME "ALPAUGH" *
QUADRANT SW *
NORTH_LATITUDE 35 56 15.000 *
WEST_LONGITUDE -119 30 00.000 *
SOUTH_LATITUDE 35 52 30.000 *
EAST_LONGITUDE -119 26 15.000 *
PRODUCTION_DATE 1998 11 26 *
RASTER_ORDER LEFT_RIGHT/TOP_BOTTOM *
BAND_ORGANIZATION "SINGLE FILE" *
BAND_CONTENT BLACK&WHITE *
BITS_PER_PIXEL 8 *
SAMPLES_AND_LINES 6540 7710 *
HORIZONTAL_DATUM NAD83 *
HORIZONTAL_COORDINATE_SYSTEM UTM *
COORDINATE_ZONE 11 *
HORIZONTAL_UNITS METERS *
HORIZONTAL_RESOLUTION 1.000 *
SECONDARY_HORIZONTAL_DATUM NAD27 *
XY_ORIGIN 273900.000 3980220.000 *
SECONDARY_XY_ORIGIN 273980.900 3980022.756 *
NATION US *
STATE CA *
NW_QUAD_CORNER_XY 274480.836 3979904.992 *
NE_QUAD_CORNER_XY 280119.895 3979762.301 *
SE_QUAD_CORNER_XY 279946.789 3972828.271 *
SW_QUAD_CORNER_XY 274303.283 3972970.860 *
SECONDARY_NW_QUAD_XY 274475.488 3979704.762 *
SECONDARY_NE_QUAD_XY 280114.681 3979562.067 *
SECONDARY_SE_QUAD_XY 279941.580 3972628.214 *
SECONDARY_SW_QUAD_XY 274297.940 3972770.807 *
RMSE_XY 0.899 *
IMAGE_SOURCE "BLACK AND WHITE FILM" *
SOURCE_IMAGE_ID "NAPP 6918 157" *
SOURCE_IMAGE_DATE 1994 05 10 *
SOURCE_DEM_DATE 1969 01 01 *
AGENCY "WESTERN MAPPING CENTER (WMC)" *
PRODUCER "ANALYTICAL SURVEYS INC." *
PRODUCTION_SYSTEM "ORBIT OR_RECTIFY V.5.2" *
STANDARD_VERSION 1996 12 *
METADATA_DATE 1998 12 01 *
DATA_FILE_SIZE 50429940 *
BYTE_COUNT 6540 * * * * * * * * * * * * * * * * * * * * * * * * * * * * * * * * * * * * * * *
END_USGS_HEADER *
