BEGIN_USGS_DOQ_HEADER *
QUADRANGLE_NAME "HACIENDA RANCH NE" *
QUADRANT NE *
NORTH_LATITUDE 36 00 00.000 *
WEST_LONGITUDE -119 33 45.000 *
SOUTH_LATITUDE 35 56 15.000 *
EAST_LONGITUDE -119 30 00.000 *
PRODUCTION_DATE 1998 11 26 *
RASTER_ORDER LEFT_RIGHT/TOP_BOTTOM *
BAND_ORGANIZATION "SINGLE FILE" *
BAND_CONTENT BLACK&WHITE *
BITS_PER_PIXEL 8 *
SAMPLES_AND_LINES 6540 7710 *
HORIZONTAL_DATUM NAD83 *
HORIZONTAL_COORDINATE_SYSTEM UTM *
COORDINATE_ZONE 11 *
HORIZONTAL_UNITS METERS *
HORIZONTAL_RESOLUTION 1.000 *
SECONDARY_HORIZONTAL_DATUM NAD27 *
XY_ORIGIN 268440.000 3987300.000 *
SECONDARY_XY_ORIGIN 268520.906 3987102.617 *
NATION US *
STATE CA *
NW_QUAD_CORNER_XY 269023.967 3986985.598 *
NE_QUAD_CORNER_XY 274658.657 3986839.183 *
SE_QUAD_CORNER_XY 274480.836 3979904.992 *
SW_QUAD_CORNER_XY 268841.692 3980051.303 *
SECONDARY_NW_QUAD_XY 269018.481 3986785.196 *
SECONDARY_NE_QUAD_XY 274653.304 3986638.777 *
SECONDARY_SE_QUAD_XY 274475.488 3979704.762 *
SECONDARY_SW_QUAD_XY 268836.210 3979851.077 *
RMSE_XY 0.968 *
IMAGE_SOURCE "BLACK AND WHITE FILM" *
SOURCE_IMAGE_ID "NAPP 6918 120" *
SOURCE_IMAGE_DATE 1994 05 10 *
SOURCE_DEM_DATE 1954 01 01 *
AGENCY "WESTERN MAPPING CENTER (WMC)" *
PRODUCER "ANALYTICAL SURVEYS INC." *
PRODUCTION_SYSTEM "ORBIT OR_RECTIFY V.5.2" *
STANDARD_VERSION 1996 12 *
METADATA_DATE 1998 12 01 *
DATA_FILE_SIZE 50429940 *
BYTE_COUNT 6540 * * * * * * * * * * * * * * * * * * * * * * * * * * * * * * * * * * * * * * *
END_USGS_HEADER *
