BEGIN_USGS_DOQ_HEADER *
QUADRANGLE_NAME "HACIENDA RANCH NE" *
QUADRANT SE *
NORTH_LATITUDE 35 56 15.000 *
WEST_LONGITUDE -119 33 45.000 *
SOUTH_LATITUDE 35 52 30.000 *
EAST_LONGITUDE -119 30 00.000 *
PRODUCTION_DATE 1998 11 26 *
RASTER_ORDER LEFT_RIGHT/TOP_BOTTOM *
BAND_ORGANIZATION "SINGLE FILE" *
BAND_CONTENT BLACK&WHITE *
BITS_PER_PIXEL 8 *
SAMPLES_AND_LINES 6540 7710 *
HORIZONTAL_DATUM NAD83 *
HORIZONTAL_COORDINATE_SYSTEM UTM *
COORDINATE_ZONE 11 *
HORIZONTAL_UNITS METERS *
HORIZONTAL_RESOLUTION 1.000 *
SECONDARY_HORIZONTAL_DATUM NAD27 *
XY_ORIGIN 268260.000 3980370.000 *
SECONDARY_XY_ORIGIN 268340.935 3980172.672 *
NATION US *
STATE CA *
NW_QUAD_CORNER_XY 268841.692 3980051.303 *
NE_QUAD_CORNER_XY 274480.836 3979904.992 *
SE_QUAD_CORNER_XY 274303.283 3972970.860 *
SW_QUAD_CORNER_XY 268659.692 3973117.066 *
SECONDARY_NW_QUAD_XY 268836.210 3979851.077 *
SECONDARY_NE_QUAD_XY 274475.488 3979704.762 *
SECONDARY_SE_QUAD_XY 274297.940 3972770.807 *
SECONDARY_SW_QUAD_XY 268654.215 3972917.016 *
RMSE_XY 0.828 *
IMAGE_SOURCE "BLACK AND WHITE FILM" *
SOURCE_IMAGE_ID "NAPP 6918 118" *
SOURCE_IMAGE_DATE 1994 05 10 *
SOURCE_DEM_DATE 1954 01 01 *
AGENCY "WESTERN MAPPING CENTER (WMC)" *
PRODUCER "ANALYTICAL SURVEYS INC." *
PRODUCTION_SYSTEM "ORBIT OR_RECTIFY V.5.2" *
STANDARD_VERSION 1996 12 *
METADATA_DATE 1998 12 01 *
DATA_FILE_SIZE 50429940 *
BYTE_COUNT 6540 * * * * * * * * * * * * * * * * * * * * * * * * * * * * * * * * * * * * * * *
END_USGS_HEADER *
