BEGIN_USGS_DOQ_HEADER *
QUADRANGLE_NAME "HACIENDA RANCH NE" *
QUADRANT SW *
NORTH_LATITUDE 35 56 15.000 *
WEST_LONGITUDE -119 37 30.000 *
SOUTH_LATITUDE 35 52 30.000 *
EAST_LONGITUDE -119 33 45.000 *
PRODUCTION_DATE 1998 11 26 *
RASTER_ORDER LEFT_RIGHT/TOP_BOTTOM *
BAND_ORGANIZATION "SINGLE FILE" *
BAND_CONTENT BLACK&WHITE *
BITS_PER_PIXEL 8 *
SAMPLES_AND_LINES 6540 7710 *
HORIZONTAL_DATUM NAD83 *
HORIZONTAL_COORDINATE_SYSTEM UTM *
COORDINATE_ZONE 11 *
HORIZONTAL_UNITS METERS *
HORIZONTAL_RESOLUTION 1.000 *
SECONDARY_HORIZONTAL_DATUM NAD27 *
XY_ORIGIN 262620.000 3980520.000 *
SECONDARY_XY_ORIGIN 262700.971 3980322.591 *
NATION US *
STATE CA *
NW_QUAD_CORNER_XY 263202.462 3980201.234 *
NE_QUAD_CORNER_XY 268841.692 3980051.303 *
SE_QUAD_CORNER_XY 268659.692 3973117.066 *
SW_QUAD_CORNER_XY 263016.014 3973266.889 *
SECONDARY_NW_QUAD_XY 263196.847 3980001.011 *
SECONDARY_NE_QUAD_XY 268836.210 3979851.077 *
SECONDARY_SE_QUAD_XY 268654.215 3972917.016 *
SECONDARY_SW_QUAD_XY 263010.403 3973066.843 *
RMSE_XY 0.684 *
IMAGE_SOURCE "BLACK AND WHITE FILM" *
SOURCE_IMAGE_ID "NAPP 6918 69" *
SOURCE_IMAGE_DATE 1994 05 10 *
SOURCE_DEM_DATE 1954 01 01 *
AGENCY "WESTERN MAPPING CENTER (WMC)" *
PRODUCER "ANALYTICAL SURVEYS INC." *
PRODUCTION_SYSTEM "ORBIT OR_RECTIFY V.5.2" *
STANDARD_VERSION 1996 12 *
METADATA_DATE 1998 12 01 *
DATA_FILE_SIZE 50429940 *
BYTE_COUNT 6540 * * * * * * * * * * * * * * * * * * * * * * * * * * * * * * * * * * * * * * *
END_USGS_HEADER *
