BEGIN_USGS_DOQ_HEADER *
QUADRANGLE_NAME "HACIENDA RANCH NW" *
QUADRANT NW *
NORTH_LATITUDE 36 00 00.000 *
WEST_LONGITUDE -119 45 00.000 *
SOUTH_LATITUDE 35 56 15.000 *
EAST_LONGITUDE -119 41 15.000 *
PRODUCTION_DATE 1998 11 24 *
RASTER_ORDER LEFT_RIGHT/TOP_BOTTOM *
BAND_ORGANIZATION "SINGLE FILE" *
BAND_CONTENT BLACK&WHITE *
BITS_PER_PIXEL 8 *
SAMPLES_AND_LINES 6540 7710 *
HORIZONTAL_DATUM NAD83 *
HORIZONTAL_COORDINATE_SYSTEM UTM *
COORDINATE_ZONE 11 *
HORIZONTAL_UNITS METERS *
HORIZONTAL_RESOLUTION 1.000 *
SECONDARY_HORIZONTAL_DATUM NAD27 *
XY_ORIGIN 251520.000 3987750.000 *
SECONDARY_XY_ORIGIN 251600.971 3987552.440 *
NATION US *
STATE CA *
NW_QUAD_CORNER_XY 252119.378 3987446.580 *
NE_QUAD_CORNER_XY 257754.330 3987289.296 *
SE_QUAD_CORNER_XY 257563.144 3980354.785 *
SW_QUAD_CORNER_XY 251923.736 3980511.957 *
SECONDARY_NW_QUAD_XY 252113.489 3987246.189 *
SECONDARY_NE_QUAD_XY 257748.576 3987088.901 *
SECONDARY_SE_QUAD_XY 257557.395 3980154.566 *
SECONDARY_SW_QUAD_XY 251917.852 3980311.741 *
RMSE_XY 0.740 *
IMAGE_SOURCE "BLACK AND WHITE FILM" *
SOURCE_IMAGE_ID "NAPP 6916 226" *
SOURCE_IMAGE_DATE 1994 05 02 *
SOURCE_DEM_DATE 1954 00 00 *
AGENCY "WESTERN MAPPING CENTER (WMC)" *
PRODUCER "ANALYTICAL SURVEYS INC." *
PRODUCTION_SYSTEM "ORBIT OR_RECTIFY V.5.2" *
STANDARD_VERSION 1996 12 *
METADATA_DATE 1998 12 02 *
DATA_FILE_SIZE 50429940 *
BYTE_COUNT 6540 * * * * * * * * * * * * * * * * * * * * * * * * * * * * * * * * * * * * * * *
END_USGS_HEADER *
