BEGIN_USGS_DOQ_HEADER *
QUADRANGLE_NAME "HACIENDA RANCH NW" *
QUADRANT SE *
NORTH_LATITUDE 35 56 15.000 *
WEST_LONGITUDE -119 41 15.000 *
SOUTH_LATITUDE 35 52 30.000 *
EAST_LONGITUDE -119 37 30.000 *
PRODUCTION_DATE 1998 11 24 *
RASTER_ORDER LEFT_RIGHT/TOP_BOTTOM *
BAND_ORGANIZATION "SINGLE FILE" *
BAND_CONTENT BLACK&WHITE *
BITS_PER_PIXEL 8 *
SAMPLES_AND_LINES 6540 7710 *
HORIZONTAL_DATUM NAD83 *
HORIZONTAL_COORDINATE_SYSTEM UTM *
COORDINATE_ZONE 11 *
HORIZONTAL_UNITS METERS *
HORIZONTAL_RESOLUTION 1.000 *
SECONDARY_HORIZONTAL_DATUM NAD27 *
XY_ORIGIN 256980.000 3980670.000 *
SECONDARY_XY_ORIGIN 257061.006 3980472.510 *
NATION US *
STATE CA *
NW_QUAD_CORNER_XY 257563.144 3980354.785 *
NE_QUAD_CORNER_XY 263202.462 3980201.234 *
SE_QUAD_CORNER_XY 263016.014 3973266.889 *
SW_QUAD_CORNER_XY 257372.247 3973420.330 *
SECONDARY_NW_QUAD_XY 257557.395 3980154.566 *
SECONDARY_NE_QUAD_XY 263196.847 3980001.011 *
SECONDARY_SE_QUAD_XY 263010.403 3973066.843 *
SECONDARY_SW_QUAD_XY 257366.503 3973220.287 *
RMSE_XY 1.498 *
IMAGE_SOURCE "BLACK AND WHITE FILM" *
SOURCE_IMAGE_ID "NAPP 6918 30" *
SOURCE_IMAGE_DATE 1994 05 10 *
SOURCE_DEM_DATE 1954 00 00 *
AGENCY "WESTERN MAPPING CENTER (WMC)" *
PRODUCER "ANALYTICAL SURVEYS INC." *
PRODUCTION_SYSTEM "ORBIT OR_RECTIFY V.5.2" *
STANDARD_VERSION 1996 12 *
METADATA_DATE 1998 12 02 *
DATA_FILE_SIZE 50429940 *
BYTE_COUNT 6540 * * * * * * * * * * * * * * * * * * * * * * * * * * * * * * * * * * * * * * *
END_USGS_HEADER *
