BEGIN_USGS_DOQ_HEADER *
QUADRANGLE_NAME "DUDLEY RIDGE" *
QUADRANT NW *
NORTH_LATITUDE 36 00 00.000 *
WEST_LONGITUDE -119 52 30.000 *
SOUTH_LATITUDE 35 56 15.000 *
EAST_LONGITUDE -119 48 45.000 *
PRODUCTION_DATE 1998 11 24 *
RASTER_ORDER LEFT_RIGHT/TOP_BOTTOM *
BAND_ORGANIZATION "SINGLE FILE" *
BAND_CONTENT BLACK&WHITE *
BITS_PER_PIXEL 8 *
SAMPLES_AND_LINES 6570 7710 *
HORIZONTAL_DATUM NAD83 *
HORIZONTAL_COORDINATE_SYSTEM UTM *
COORDINATE_ZONE 11 *
HORIZONTAL_UNITS METERS *
HORIZONTAL_RESOLUTION 1.000 *
SECONDARY_HORIZONTAL_DATUM NAD27 *
XY_ORIGIN 240240.000 3988080.000 *
SECONDARY_XY_ORIGIN 240320.956 3987882.273 *
NATION US *
STATE CA *
NW_QUAD_CORNER_XY 240849.196 3987772.021 *
NE_QUAD_CORNER_XY 246484.334 3987607.488 *
SE_QUAD_CORNER_XY 246284.235 3980672.750 *
SW_QUAD_CORNER_XY 240644.639 3980837.166 *
SECONDARY_NW_QUAD_XY 240843.039 3987571.637 *
SECONDARY_NE_QUAD_XY 246478.311 3987407.101 *
SECONDARY_SE_QUAD_XY 246278.218 3980472.539 *
SECONDARY_SW_QUAD_XY 240638.488 3980636.958 *
RMSE_XY 1.010 *
IMAGE_SOURCE "BLACK AND WHITE FILM" *
SOURCE_IMAGE_ID "NAPP 6916 150" *
SOURCE_IMAGE_DATE 1994 05 02 *
SOURCE_DEM_DATE 1954 00 00 *
AGENCY "WESTERN MAPPING CENTER (WMC)" *
PRODUCER "ANALYTICAL SURVEYS INC." *
PRODUCTION_SYSTEM "ORBIT OR_RECTIFY V.5.2" *
STANDARD_VERSION 1996 12 *
METADATA_DATE 1998 12 02 *
DATA_FILE_SIZE 50661270 *
BYTE_COUNT 6570 * * * * * * * * * * * * * * * * * * * * * * * * * * * * * * * * * * * * * * * *
END_USGS_HEADER *
