BEGIN_USGS_DOQ_HEADER *
QUADRANGLE_NAME "DUDLEY RIDGE" *
QUADRANT SE *
NORTH_LATITUDE 35 56 15.000 *
WEST_LONGITUDE -119 48 45.000 *
SOUTH_LATITUDE 35 52 30.000 *
EAST_LONGITUDE -119 45 00.000 *
PRODUCTION_DATE 1998 11 24 *
RASTER_ORDER LEFT_RIGHT/TOP_BOTTOM *
BAND_ORGANIZATION "SINGLE FILE" *
BAND_CONTENT BLACK&WHITE *
BITS_PER_PIXEL 8 *
SAMPLES_AND_LINES 6570 7740 *
HORIZONTAL_DATUM NAD83 *
HORIZONTAL_COORDINATE_SYSTEM UTM *
COORDINATE_ZONE 11 *
HORIZONTAL_UNITS METERS *
HORIZONTAL_RESOLUTION 1.000 *
SECONDARY_HORIZONTAL_DATUM NAD27 *
XY_ORIGIN 245670.000 3981000.000 *
SECONDARY_XY_ORIGIN 245751.056 3980802.335 *
NATION US *
STATE CA *
NW_QUAD_CORNER_XY 246284.235 3980672.750 *
NE_QUAD_CORNER_XY 251923.736 3980511.957 *
SE_QUAD_CORNER_XY 251728.389 3973577.389 *
SW_QUAD_CORNER_XY 246084.438 3973738.067 *
SECONDARY_NW_QUAD_XY 246278.218 3980472.539 *
SECONDARY_NE_QUAD_XY 251917.852 3980311.741 *
SECONDARY_SE_QUAD_XY 251722.511 3973377.350 *
SECONDARY_SW_QUAD_XY 246078.426 3973538.032 *
RMSE_XY 0.670 *
IMAGE_SOURCE "BLACK AND WHITE FILM" *
SOURCE_IMAGE_ID "NAPP 6916 189" *
SOURCE_IMAGE_DATE 1994 05 02 *
SOURCE_DEM_DATE 1954 00 00 *
AGENCY "WESTERN MAPPING CENTER (WMC)" *
PRODUCER "ANALYTICAL SURVEYS INC." *
PRODUCTION_SYSTEM "ORBIT OR_RECTIFY V.5.2" *
STANDARD_VERSION 1996 12 *
METADATA_DATE 1998 12 02 *
DATA_FILE_SIZE 50858370 *
BYTE_COUNT 6570 * * * * * * * * * * * * * * * * * * * * * * * * * * * * * * * * * * * * * * * *
END_USGS_HEADER *
